BEGIN:VCALENDAR
VERSION:2.0
PRODID:-//KIDE FM - ECPv6.15.20//NONSGML v1.0//EN
CALSCALE:GREGORIAN
METHOD:PUBLISH
X-WR-CALNAME:KIDE FM
X-ORIGINAL-URL:https://kidefm.org
X-WR-CALDESC:Events for KIDE FM
REFRESH-INTERVAL;VALUE=DURATION:PT1H
X-Robots-Tag:noindex
X-PUBLISHED-TTL:PT1H
BEGIN:VTIMEZONE
TZID:America/Los_Angeles
BEGIN:DAYLIGHT
TZOFFSETFROM:-0800
TZOFFSETTO:-0700
TZNAME:PDT
DTSTART:20250309T100000
END:DAYLIGHT
BEGIN:STANDARD
TZOFFSETFROM:-0700
TZOFFSETTO:-0800
TZNAME:PST
DTSTART:20251102T090000
END:STANDARD
BEGIN:DAYLIGHT
TZOFFSETFROM:-0800
TZOFFSETTO:-0700
TZNAME:PDT
DTSTART:20260308T100000
END:DAYLIGHT
BEGIN:STANDARD
TZOFFSETFROM:-0700
TZOFFSETTO:-0800
TZNAME:PST
DTSTART:20261101T090000
END:STANDARD
BEGIN:DAYLIGHT
TZOFFSETFROM:-0800
TZOFFSETTO:-0700
TZNAME:PDT
DTSTART:20270314T100000
END:DAYLIGHT
BEGIN:STANDARD
TZOFFSETFROM:-0700
TZOFFSETTO:-0800
TZNAME:PST
DTSTART:20271107T090000
END:STANDARD
END:VTIMEZONE
BEGIN:VEVENT
DTSTART;TZID=America/Los_Angeles:20260417T000000
DTEND;TZID=America/Los_Angeles:20260417T120000
DTSTAMP:20260419T081206
CREATED:20260315T175106Z
LAST-MODIFIED:20260317T194010Z
UID:10006171-1776384000-1776427200@kidefm.org
SUMMARY:All Indian Basketball
DESCRIPTION:
URL:https://kidefm.org/eventinfo/171791/2026-04-17/
CATEGORIES:General
END:VEVENT
BEGIN:VEVENT
DTSTART;VALUE=DATE:20260417
DTEND;VALUE=DATE:20260419
DTSTAMP:20260419T081206
CREATED:20260401T211539Z
LAST-MODIFIED:20260401T211539Z
UID:10006198-1776391200-1776477599@kidefm.org
SUMMARY:All Indian Basketball 2026
DESCRIPTION:
URL:https://kidefm.org/eventinfo/all-indian-basketball-2026/2026-04-17/
CATEGORIES:General
END:VEVENT
BEGIN:VEVENT
DTSTART;TZID=America/Los_Angeles:20260417T100000
DTEND;TZID=America/Los_Angeles:20260417T100000
DTSTAMP:20260419T081206
CREATED:20260417T161241Z
LAST-MODIFIED:20260417T161241Z
UID:10006221-1776420000-1776420000@kidefm.org
SUMMARY:Native America Calling
DESCRIPTION:Today\, April 17 – Storytelling and advocacy through film\, culture\, and collaboration at Arctic Encounter\n \n\n\nFilmmaker Kelly Moneymaker is dedicated to documenting how Indigenous people across the world — especially in the Arctic — are adapting to a rapidly changing climate. Moneymaker\, who is Samoan and was raised by an adoptive Iñupiaq father\, pivoted her career after a successful run in pop music to highlight Indigenous stories on film. Her work has been showcased at United Nations Climate Conferences\, prestigious film festivals\, and previous Arctic Encounter Summits in Anchorage\, Alaska. We’ll speak to Moneymaker about her film work and hear from Unangax̂ tribal leader Crystal Dushkin about her efforts to revitalize her culture while bringing economic security to her community. \nAnd Rachel Kallander\, Arctic Encounter Summit founder and CEO\, will join us for a review of this year’s convening of global leaders and stakeholders. \nTo join the discussion\, call 1-800-996-2848
URL:https://kidefm.org/eventinfo/native-america-calling-31/
CATEGORIES:General
END:VEVENT
BEGIN:VEVENT
DTSTART;TZID=America/Los_Angeles:20260418T000000
DTEND;TZID=America/Los_Angeles:20260418T120000
DTSTAMP:20260419T081206
CREATED:20260315T175106Z
LAST-MODIFIED:20260317T194010Z
UID:10006172-1776470400-1776513600@kidefm.org
SUMMARY:All Indian Basketball
DESCRIPTION:
URL:https://kidefm.org/eventinfo/171791/2026-04-18/
CATEGORIES:General
END:VEVENT
END:VCALENDAR