BEGIN:VCALENDAR
VERSION:2.0
PRODID:-//KIDE FM - ECPv6.15.20//NONSGML v1.0//EN
CALSCALE:GREGORIAN
METHOD:PUBLISH
X-ORIGINAL-URL:https://kidefm.org
X-WR-CALDESC:Events for KIDE FM
REFRESH-INTERVAL;VALUE=DURATION:PT1H
X-Robots-Tag:noindex
X-PUBLISHED-TTL:PT1H
BEGIN:VTIMEZONE
TZID:America/Los_Angeles
BEGIN:DAYLIGHT
TZOFFSETFROM:-0800
TZOFFSETTO:-0700
TZNAME:PDT
DTSTART:20250309T100000
END:DAYLIGHT
BEGIN:STANDARD
TZOFFSETFROM:-0700
TZOFFSETTO:-0800
TZNAME:PST
DTSTART:20251102T090000
END:STANDARD
BEGIN:DAYLIGHT
TZOFFSETFROM:-0800
TZOFFSETTO:-0700
TZNAME:PDT
DTSTART:20260308T100000
END:DAYLIGHT
BEGIN:STANDARD
TZOFFSETFROM:-0700
TZOFFSETTO:-0800
TZNAME:PST
DTSTART:20261101T090000
END:STANDARD
BEGIN:DAYLIGHT
TZOFFSETFROM:-0800
TZOFFSETTO:-0700
TZNAME:PDT
DTSTART:20270314T100000
END:DAYLIGHT
BEGIN:STANDARD
TZOFFSETFROM:-0700
TZOFFSETTO:-0800
TZNAME:PST
DTSTART:20271107T090000
END:STANDARD
BEGIN:DAYLIGHT
TZOFFSETFROM:-0800
TZOFFSETTO:-0700
TZNAME:PDT
DTSTART:20280312T100000
END:DAYLIGHT
BEGIN:STANDARD
TZOFFSETFROM:-0700
TZOFFSETTO:-0800
TZNAME:PST
DTSTART:20281105T090000
END:STANDARD
END:VTIMEZONE
BEGIN:VEVENT
DTSTART;VALUE=DATE:20261216
DTEND;VALUE=DATE:20261218
DTSTAMP:20260423T231609
CREATED:20260422T001904Z
LAST-MODIFIED:20260422T001904Z
UID:10006452-1797386400-1797472799@kidefm.org
SUMMARY:MMIP Week
DESCRIPTION:
URL:https://kidefm.org/eventinfo/mmip-week/2026-12-16/
CATEGORIES:General
END:VEVENT
BEGIN:VEVENT
DTSTART;VALUE=DATE:20261217
DTEND;VALUE=DATE:20261219
DTSTAMP:20260423T231609
CREATED:20260422T001904Z
LAST-MODIFIED:20260422T001904Z
UID:10006453-1797472800-1797559199@kidefm.org
SUMMARY:MMIP Week
DESCRIPTION:
URL:https://kidefm.org/eventinfo/mmip-week/2026-12-17/
CATEGORIES:General
END:VEVENT
BEGIN:VEVENT
DTSTART;VALUE=DATE:20261218
DTEND;VALUE=DATE:20261220
DTSTAMP:20260423T231609
CREATED:20260422T001904Z
LAST-MODIFIED:20260422T001904Z
UID:10006454-1797559200-1797645599@kidefm.org
SUMMARY:MMIP Week
DESCRIPTION:
URL:https://kidefm.org/eventinfo/mmip-week/2026-12-18/
CATEGORIES:General
END:VEVENT
BEGIN:VEVENT
DTSTART;VALUE=DATE:20261219
DTEND;VALUE=DATE:20261221
DTSTAMP:20260423T231609
CREATED:20260422T001904Z
LAST-MODIFIED:20260422T001904Z
UID:10006455-1797645600-1797731999@kidefm.org
SUMMARY:MMIP Week
DESCRIPTION:
URL:https://kidefm.org/eventinfo/mmip-week/2026-12-19/
CATEGORIES:General
END:VEVENT
BEGIN:VEVENT
DTSTART;VALUE=DATE:20261220
DTEND;VALUE=DATE:20261222
DTSTAMP:20260423T231609
CREATED:20260422T001904Z
LAST-MODIFIED:20260422T001904Z
UID:10006456-1797732000-1797818399@kidefm.org
SUMMARY:MMIP Week
DESCRIPTION:
URL:https://kidefm.org/eventinfo/mmip-week/2026-12-20/
CATEGORIES:General
END:VEVENT
BEGIN:VEVENT
DTSTART;VALUE=DATE:20261221
DTEND;VALUE=DATE:20261223
DTSTAMP:20260423T231609
CREATED:20260422T001904Z
LAST-MODIFIED:20260422T001904Z
UID:10006457-1797818400-1797904799@kidefm.org
SUMMARY:MMIP Week
DESCRIPTION:
URL:https://kidefm.org/eventinfo/mmip-week/2026-12-21/
CATEGORIES:General
END:VEVENT
BEGIN:VEVENT
DTSTART;VALUE=DATE:20261222
DTEND;VALUE=DATE:20261224
DTSTAMP:20260423T231609
CREATED:20260422T001904Z
LAST-MODIFIED:20260422T001904Z
UID:10006458-1797904800-1797991199@kidefm.org
SUMMARY:MMIP Week
DESCRIPTION:
URL:https://kidefm.org/eventinfo/mmip-week/2026-12-22/
CATEGORIES:General
END:VEVENT
BEGIN:VEVENT
DTSTART;TZID=America/Los_Angeles:20261222T163000
DTEND;TZID=America/Los_Angeles:20261222T180000
DTSTAMP:20260423T231609
CREATED:20251029T181648Z
LAST-MODIFIED:20251029T181947Z
UID:10005995-1797957000-1797962400@kidefm.org
SUMMARY:FUNGI
DESCRIPTION:Today at the Kim Yerton Memorial Library you can learn more about mushroom hunting. Each session is solely focused on how to forge mushrooms safely. Please see the attached PDF for more details. \nFUNGI
URL:https://kidefm.org/eventinfo/fungi/2026-12-22/
CATEGORIES:General
END:VEVENT
BEGIN:VEVENT
DTSTART;VALUE=DATE:20261223
DTEND;VALUE=DATE:20261225
DTSTAMP:20260423T231609
CREATED:20260422T001904Z
LAST-MODIFIED:20260422T001904Z
UID:10006459-1797991200-1798077599@kidefm.org
SUMMARY:MMIP Week
DESCRIPTION:
URL:https://kidefm.org/eventinfo/mmip-week/2026-12-23/
CATEGORIES:General
END:VEVENT
BEGIN:VEVENT
DTSTART;VALUE=DATE:20261224
DTEND;VALUE=DATE:20261226
DTSTAMP:20260423T231609
CREATED:20260422T001904Z
LAST-MODIFIED:20260422T001904Z
UID:10006460-1798077600-1798163999@kidefm.org
SUMMARY:MMIP Week
DESCRIPTION:
URL:https://kidefm.org/eventinfo/mmip-week/2026-12-24/
CATEGORIES:General
END:VEVENT
BEGIN:VEVENT
DTSTART;VALUE=DATE:20261225
DTEND;VALUE=DATE:20261227
DTSTAMP:20260423T231609
CREATED:20260422T001904Z
LAST-MODIFIED:20260422T001904Z
UID:10006461-1798164000-1798250399@kidefm.org
SUMMARY:MMIP Week
DESCRIPTION:
URL:https://kidefm.org/eventinfo/mmip-week/2026-12-25/
CATEGORIES:General
END:VEVENT
BEGIN:VEVENT
DTSTART;VALUE=DATE:20261226
DTEND;VALUE=DATE:20261228
DTSTAMP:20260423T231609
CREATED:20260422T001904Z
LAST-MODIFIED:20260422T001904Z
UID:10006462-1798250400-1798336799@kidefm.org
SUMMARY:MMIP Week
DESCRIPTION:
URL:https://kidefm.org/eventinfo/mmip-week/2026-12-26/
CATEGORIES:General
END:VEVENT
BEGIN:VEVENT
DTSTART;VALUE=DATE:20261227
DTEND;VALUE=DATE:20261229
DTSTAMP:20260423T231609
CREATED:20260422T001904Z
LAST-MODIFIED:20260422T001904Z
UID:10006463-1798336800-1798423199@kidefm.org
SUMMARY:MMIP Week
DESCRIPTION:
URL:https://kidefm.org/eventinfo/mmip-week/2026-12-27/
CATEGORIES:General
END:VEVENT
BEGIN:VEVENT
DTSTART;VALUE=DATE:20261228
DTEND;VALUE=DATE:20261230
DTSTAMP:20260423T231609
CREATED:20260422T001904Z
LAST-MODIFIED:20260422T001904Z
UID:10006464-1798423200-1798509599@kidefm.org
SUMMARY:MMIP Week
DESCRIPTION:
URL:https://kidefm.org/eventinfo/mmip-week/2026-12-28/
CATEGORIES:General
END:VEVENT
BEGIN:VEVENT
DTSTART;VALUE=DATE:20261229
DTEND;VALUE=DATE:20261231
DTSTAMP:20260423T231609
CREATED:20260422T001904Z
LAST-MODIFIED:20260422T001904Z
UID:10006465-1798509600-1798595999@kidefm.org
SUMMARY:MMIP Week
DESCRIPTION:
URL:https://kidefm.org/eventinfo/mmip-week/2026-12-29/
CATEGORIES:General
END:VEVENT
BEGIN:VEVENT
DTSTART;TZID=America/Los_Angeles:20261229T163000
DTEND;TZID=America/Los_Angeles:20261229T180000
DTSTAMP:20260423T231609
CREATED:20251029T181648Z
LAST-MODIFIED:20251029T181947Z
UID:10005996-1798561800-1798567200@kidefm.org
SUMMARY:FUNGI
DESCRIPTION:Today at the Kim Yerton Memorial Library you can learn more about mushroom hunting. Each session is solely focused on how to forge mushrooms safely. Please see the attached PDF for more details. \nFUNGI
URL:https://kidefm.org/eventinfo/fungi/2026-12-29/
CATEGORIES:General
END:VEVENT
BEGIN:VEVENT
DTSTART;VALUE=DATE:20261230
DTEND;VALUE=DATE:20270101
DTSTAMP:20260423T231609
CREATED:20260422T001904Z
LAST-MODIFIED:20260422T001904Z
UID:10006466-1798596000-1798682399@kidefm.org
SUMMARY:MMIP Week
DESCRIPTION:
URL:https://kidefm.org/eventinfo/mmip-week/2026-12-30/
CATEGORIES:General
END:VEVENT
BEGIN:VEVENT
DTSTART;VALUE=DATE:20261231
DTEND;VALUE=DATE:20270102
DTSTAMP:20260423T231609
CREATED:20260422T001904Z
LAST-MODIFIED:20260422T001904Z
UID:10006467-1798682400-1798768799@kidefm.org
SUMMARY:MMIP Week
DESCRIPTION:
URL:https://kidefm.org/eventinfo/mmip-week/2026-12-31/
CATEGORIES:General
END:VEVENT
BEGIN:VEVENT
DTSTART;VALUE=DATE:20270101
DTEND;VALUE=DATE:20270103
DTSTAMP:20260423T231609
CREATED:20260422T001904Z
LAST-MODIFIED:20260422T001904Z
UID:10006468-1798768800-1798855199@kidefm.org
SUMMARY:MMIP Week
DESCRIPTION:
URL:https://kidefm.org/eventinfo/mmip-week/2027-01-01/
CATEGORIES:General
END:VEVENT
BEGIN:VEVENT
DTSTART;VALUE=DATE:20270102
DTEND;VALUE=DATE:20270104
DTSTAMP:20260423T231609
CREATED:20260422T001904Z
LAST-MODIFIED:20260422T001904Z
UID:10006469-1798855200-1798941599@kidefm.org
SUMMARY:MMIP Week
DESCRIPTION:
URL:https://kidefm.org/eventinfo/mmip-week/2027-01-02/
CATEGORIES:General
END:VEVENT
BEGIN:VEVENT
DTSTART;VALUE=DATE:20270103
DTEND;VALUE=DATE:20270105
DTSTAMP:20260423T231609
CREATED:20260422T001904Z
LAST-MODIFIED:20260422T001904Z
UID:10006470-1798941600-1799027999@kidefm.org
SUMMARY:MMIP Week
DESCRIPTION:
URL:https://kidefm.org/eventinfo/mmip-week/2027-01-03/
CATEGORIES:General
END:VEVENT
BEGIN:VEVENT
DTSTART;VALUE=DATE:20270104
DTEND;VALUE=DATE:20270106
DTSTAMP:20260423T231609
CREATED:20260422T001904Z
LAST-MODIFIED:20260422T001904Z
UID:10006471-1799028000-1799114399@kidefm.org
SUMMARY:MMIP Week
DESCRIPTION:
URL:https://kidefm.org/eventinfo/mmip-week/2027-01-04/
CATEGORIES:General
END:VEVENT
BEGIN:VEVENT
DTSTART;VALUE=DATE:20270105
DTEND;VALUE=DATE:20270107
DTSTAMP:20260423T231609
CREATED:20260422T001904Z
LAST-MODIFIED:20260422T001904Z
UID:10006472-1799114400-1799200799@kidefm.org
SUMMARY:MMIP Week
DESCRIPTION:
URL:https://kidefm.org/eventinfo/mmip-week/2027-01-05/
CATEGORIES:General
END:VEVENT
BEGIN:VEVENT
DTSTART;TZID=America/Los_Angeles:20270105T163000
DTEND;TZID=America/Los_Angeles:20270105T180000
DTSTAMP:20260423T231609
CREATED:20251029T181648Z
LAST-MODIFIED:20251029T181947Z
UID:10005997-1799166600-1799172000@kidefm.org
SUMMARY:FUNGI
DESCRIPTION:Today at the Kim Yerton Memorial Library you can learn more about mushroom hunting. Each session is solely focused on how to forge mushrooms safely. Please see the attached PDF for more details. \nFUNGI
URL:https://kidefm.org/eventinfo/fungi/2027-01-05/
CATEGORIES:General
END:VEVENT
BEGIN:VEVENT
DTSTART;VALUE=DATE:20270106
DTEND;VALUE=DATE:20270108
DTSTAMP:20260423T231609
CREATED:20260422T001904Z
LAST-MODIFIED:20260422T001904Z
UID:10006473-1799200800-1799287199@kidefm.org
SUMMARY:MMIP Week
DESCRIPTION:
URL:https://kidefm.org/eventinfo/mmip-week/2027-01-06/
CATEGORIES:General
END:VEVENT
BEGIN:VEVENT
DTSTART;VALUE=DATE:20270107
DTEND;VALUE=DATE:20270109
DTSTAMP:20260423T231609
CREATED:20260422T001904Z
LAST-MODIFIED:20260422T001904Z
UID:10006474-1799287200-1799373599@kidefm.org
SUMMARY:MMIP Week
DESCRIPTION:
URL:https://kidefm.org/eventinfo/mmip-week/2027-01-07/
CATEGORIES:General
END:VEVENT
BEGIN:VEVENT
DTSTART;VALUE=DATE:20270108
DTEND;VALUE=DATE:20270110
DTSTAMP:20260423T231609
CREATED:20260422T001904Z
LAST-MODIFIED:20260422T001904Z
UID:10006475-1799373600-1799459999@kidefm.org
SUMMARY:MMIP Week
DESCRIPTION:
URL:https://kidefm.org/eventinfo/mmip-week/2027-01-08/
CATEGORIES:General
END:VEVENT
BEGIN:VEVENT
DTSTART;VALUE=DATE:20270109
DTEND;VALUE=DATE:20270111
DTSTAMP:20260423T231609
CREATED:20260422T001904Z
LAST-MODIFIED:20260422T001904Z
UID:10006476-1799460000-1799546399@kidefm.org
SUMMARY:MMIP Week
DESCRIPTION:
URL:https://kidefm.org/eventinfo/mmip-week/2027-01-09/
CATEGORIES:General
END:VEVENT
BEGIN:VEVENT
DTSTART;VALUE=DATE:20270110
DTEND;VALUE=DATE:20270112
DTSTAMP:20260423T231609
CREATED:20260422T001904Z
LAST-MODIFIED:20260422T001904Z
UID:10006477-1799546400-1799632799@kidefm.org
SUMMARY:MMIP Week
DESCRIPTION:
URL:https://kidefm.org/eventinfo/mmip-week/2027-01-10/
CATEGORIES:General
END:VEVENT
BEGIN:VEVENT
DTSTART;VALUE=DATE:20270111
DTEND;VALUE=DATE:20270113
DTSTAMP:20260423T231609
CREATED:20260422T001904Z
LAST-MODIFIED:20260422T001904Z
UID:10006478-1799632800-1799719199@kidefm.org
SUMMARY:MMIP Week
DESCRIPTION:
URL:https://kidefm.org/eventinfo/mmip-week/2027-01-11/
CATEGORIES:General
END:VEVENT
END:VCALENDAR