BEGIN:VCALENDAR
VERSION:2.0
PRODID:-//KIDE FM - ECPv6.15.20//NONSGML v1.0//EN
CALSCALE:GREGORIAN
METHOD:PUBLISH
X-WR-CALNAME:KIDE FM
X-ORIGINAL-URL:https://kidefm.org
X-WR-CALDESC:Events for KIDE FM
REFRESH-INTERVAL;VALUE=DURATION:PT1H
X-Robots-Tag:noindex
X-PUBLISHED-TTL:PT1H
BEGIN:VTIMEZONE
TZID:America/Los_Angeles
BEGIN:DAYLIGHT
TZOFFSETFROM:-0800
TZOFFSETTO:-0700
TZNAME:PDT
DTSTART:20250309T100000
END:DAYLIGHT
BEGIN:STANDARD
TZOFFSETFROM:-0700
TZOFFSETTO:-0800
TZNAME:PST
DTSTART:20251102T090000
END:STANDARD
BEGIN:DAYLIGHT
TZOFFSETFROM:-0800
TZOFFSETTO:-0700
TZNAME:PDT
DTSTART:20260308T100000
END:DAYLIGHT
BEGIN:STANDARD
TZOFFSETFROM:-0700
TZOFFSETTO:-0800
TZNAME:PST
DTSTART:20261101T090000
END:STANDARD
BEGIN:DAYLIGHT
TZOFFSETFROM:-0800
TZOFFSETTO:-0700
TZNAME:PDT
DTSTART:20270314T100000
END:DAYLIGHT
BEGIN:STANDARD
TZOFFSETFROM:-0700
TZOFFSETTO:-0800
TZNAME:PST
DTSTART:20271107T090000
END:STANDARD
END:VTIMEZONE
BEGIN:VEVENT
DTSTART;VALUE=DATE:20260615
DTEND;VALUE=DATE:20260617
DTSTAMP:20260423T035916
CREATED:20260422T001904Z
LAST-MODIFIED:20260422T001904Z
UID:10006268-1781488800-1781575199@kidefm.org
SUMMARY:MMIP Week
DESCRIPTION:
URL:https://kidefm.org/eventinfo/mmip-week/2026-06-15/
CATEGORIES:General
END:VEVENT
BEGIN:VEVENT
DTSTART;VALUE=DATE:20260616
DTEND;VALUE=DATE:20260618
DTSTAMP:20260423T035916
CREATED:20260422T001904Z
LAST-MODIFIED:20260422T001904Z
UID:10006269-1781575200-1781661599@kidefm.org
SUMMARY:MMIP Week
DESCRIPTION:
URL:https://kidefm.org/eventinfo/mmip-week/2026-06-16/
CATEGORIES:General
END:VEVENT
BEGIN:VEVENT
DTSTART;TZID=America/Los_Angeles:20260616T163000
DTEND;TZID=America/Los_Angeles:20260616T180000
DTSTAMP:20260423T035916
CREATED:20251029T181648Z
LAST-MODIFIED:20251029T181947Z
UID:10005968-1781627400-1781632800@kidefm.org
SUMMARY:FUNGI
DESCRIPTION:Today at the Kim Yerton Memorial Library you can learn more about mushroom hunting. Each session is solely focused on how to forge mushrooms safely. Please see the attached PDF for more details. \nFUNGI
URL:https://kidefm.org/eventinfo/fungi/2026-06-16/
CATEGORIES:General
END:VEVENT
BEGIN:VEVENT
DTSTART;VALUE=DATE:20260617
DTEND;VALUE=DATE:20260619
DTSTAMP:20260423T035916
CREATED:20260422T001904Z
LAST-MODIFIED:20260422T001904Z
UID:10006270-1781661600-1781747999@kidefm.org
SUMMARY:MMIP Week
DESCRIPTION:
URL:https://kidefm.org/eventinfo/mmip-week/2026-06-17/
CATEGORIES:General
END:VEVENT
BEGIN:VEVENT
DTSTART;VALUE=DATE:20260618
DTEND;VALUE=DATE:20260620
DTSTAMP:20260423T035916
CREATED:20260422T001904Z
LAST-MODIFIED:20260422T001904Z
UID:10006271-1781748000-1781834399@kidefm.org
SUMMARY:MMIP Week
DESCRIPTION:
URL:https://kidefm.org/eventinfo/mmip-week/2026-06-18/
CATEGORIES:General
END:VEVENT
BEGIN:VEVENT
DTSTART;VALUE=DATE:20260619
DTEND;VALUE=DATE:20260621
DTSTAMP:20260423T035916
CREATED:20260422T001904Z
LAST-MODIFIED:20260422T001904Z
UID:10006272-1781834400-1781920799@kidefm.org
SUMMARY:MMIP Week
DESCRIPTION:
URL:https://kidefm.org/eventinfo/mmip-week/2026-06-19/
CATEGORIES:General
END:VEVENT
BEGIN:VEVENT
DTSTART;VALUE=DATE:20260620
DTEND;VALUE=DATE:20260622
DTSTAMP:20260423T035916
CREATED:20260422T001904Z
LAST-MODIFIED:20260422T001904Z
UID:10006273-1781920800-1782007199@kidefm.org
SUMMARY:MMIP Week
DESCRIPTION:
URL:https://kidefm.org/eventinfo/mmip-week/2026-06-20/
CATEGORIES:General
END:VEVENT
BEGIN:VEVENT
DTSTART;VALUE=DATE:20260621
DTEND;VALUE=DATE:20260623
DTSTAMP:20260423T035916
CREATED:20260422T001904Z
LAST-MODIFIED:20260422T001904Z
UID:10006274-1782007200-1782093599@kidefm.org
SUMMARY:MMIP Week
DESCRIPTION:
URL:https://kidefm.org/eventinfo/mmip-week/2026-06-21/
CATEGORIES:General
END:VEVENT
BEGIN:VEVENT
DTSTART;VALUE=DATE:20260622
DTEND;VALUE=DATE:20260624
DTSTAMP:20260423T035916
CREATED:20260422T001904Z
LAST-MODIFIED:20260422T001904Z
UID:10006275-1782093600-1782179999@kidefm.org
SUMMARY:MMIP Week
DESCRIPTION:
URL:https://kidefm.org/eventinfo/mmip-week/2026-06-22/
CATEGORIES:General
END:VEVENT
BEGIN:VEVENT
DTSTART;VALUE=DATE:20260623
DTEND;VALUE=DATE:20260625
DTSTAMP:20260423T035916
CREATED:20260422T001904Z
LAST-MODIFIED:20260422T001904Z
UID:10006276-1782180000-1782266399@kidefm.org
SUMMARY:MMIP Week
DESCRIPTION:
URL:https://kidefm.org/eventinfo/mmip-week/2026-06-23/
CATEGORIES:General
END:VEVENT
BEGIN:VEVENT
DTSTART;TZID=America/Los_Angeles:20260623T163000
DTEND;TZID=America/Los_Angeles:20260623T180000
DTSTAMP:20260423T035916
CREATED:20251029T181648Z
LAST-MODIFIED:20251029T181947Z
UID:10005969-1782232200-1782237600@kidefm.org
SUMMARY:FUNGI
DESCRIPTION:Today at the Kim Yerton Memorial Library you can learn more about mushroom hunting. Each session is solely focused on how to forge mushrooms safely. Please see the attached PDF for more details. \nFUNGI
URL:https://kidefm.org/eventinfo/fungi/2026-06-23/
CATEGORIES:General
END:VEVENT
BEGIN:VEVENT
DTSTART;VALUE=DATE:20260624
DTEND;VALUE=DATE:20260626
DTSTAMP:20260423T035916
CREATED:20260422T001904Z
LAST-MODIFIED:20260422T001904Z
UID:10006277-1782266400-1782352799@kidefm.org
SUMMARY:MMIP Week
DESCRIPTION:
URL:https://kidefm.org/eventinfo/mmip-week/2026-06-24/
CATEGORIES:General
END:VEVENT
BEGIN:VEVENT
DTSTART;VALUE=DATE:20260625
DTEND;VALUE=DATE:20260627
DTSTAMP:20260423T035916
CREATED:20260422T001904Z
LAST-MODIFIED:20260422T001904Z
UID:10006278-1782352800-1782439199@kidefm.org
SUMMARY:MMIP Week
DESCRIPTION:
URL:https://kidefm.org/eventinfo/mmip-week/2026-06-25/
CATEGORIES:General
END:VEVENT
BEGIN:VEVENT
DTSTART;VALUE=DATE:20260626
DTEND;VALUE=DATE:20260628
DTSTAMP:20260423T035916
CREATED:20260422T001904Z
LAST-MODIFIED:20260422T001904Z
UID:10006279-1782439200-1782525599@kidefm.org
SUMMARY:MMIP Week
DESCRIPTION:
URL:https://kidefm.org/eventinfo/mmip-week/2026-06-26/
CATEGORIES:General
END:VEVENT
BEGIN:VEVENT
DTSTART;VALUE=DATE:20260627
DTEND;VALUE=DATE:20260629
DTSTAMP:20260423T035916
CREATED:20260325T145014Z
LAST-MODIFIED:20260325T145014Z
UID:10006191-1782525600-1782611999@kidefm.org
SUMMARY:National Youth Takeover Day
DESCRIPTION:National Youth Takeover Day! Today the youth voices will take center stage across platforms\, public spaces\, and cultural institutions. \nOrganizers say the initiative is designed to shift how the 250th anniversary is shaped — moving beyond official commemorations and toward a more participatory\, youth-driven vision of the country’s future. \n(We will post more information as we find organizers to address the progress being made to this country-wide event.)
URL:https://kidefm.org/eventinfo/national-youth-takeover-day/
CATEGORIES:General
END:VEVENT
BEGIN:VEVENT
DTSTART;VALUE=DATE:20260627
DTEND;VALUE=DATE:20260629
DTSTAMP:20260423T035916
CREATED:20260422T001904Z
LAST-MODIFIED:20260422T001904Z
UID:10006280-1782525600-1782611999@kidefm.org
SUMMARY:MMIP Week
DESCRIPTION:
URL:https://kidefm.org/eventinfo/mmip-week/2026-06-27/
CATEGORIES:General
END:VEVENT
BEGIN:VEVENT
DTSTART;VALUE=DATE:20260628
DTEND;VALUE=DATE:20260630
DTSTAMP:20260423T035916
CREATED:20260422T001904Z
LAST-MODIFIED:20260422T001904Z
UID:10006281-1782612000-1782698399@kidefm.org
SUMMARY:MMIP Week
DESCRIPTION:
URL:https://kidefm.org/eventinfo/mmip-week/2026-06-28/
CATEGORIES:General
END:VEVENT
BEGIN:VEVENT
DTSTART;VALUE=DATE:20260629
DTEND;VALUE=DATE:20260701
DTSTAMP:20260423T035916
CREATED:20260422T001904Z
LAST-MODIFIED:20260422T001904Z
UID:10006282-1782698400-1782784799@kidefm.org
SUMMARY:MMIP Week
DESCRIPTION:
URL:https://kidefm.org/eventinfo/mmip-week/2026-06-29/
CATEGORIES:General
END:VEVENT
BEGIN:VEVENT
DTSTART;VALUE=DATE:20260630
DTEND;VALUE=DATE:20260702
DTSTAMP:20260423T035916
CREATED:20260422T001904Z
LAST-MODIFIED:20260422T001904Z
UID:10006283-1782784800-1782871199@kidefm.org
SUMMARY:MMIP Week
DESCRIPTION:
URL:https://kidefm.org/eventinfo/mmip-week/2026-06-30/
CATEGORIES:General
END:VEVENT
BEGIN:VEVENT
DTSTART;TZID=America/Los_Angeles:20260630T163000
DTEND;TZID=America/Los_Angeles:20260630T180000
DTSTAMP:20260423T035916
CREATED:20251029T181648Z
LAST-MODIFIED:20251029T181947Z
UID:10005970-1782837000-1782842400@kidefm.org
SUMMARY:FUNGI
DESCRIPTION:Today at the Kim Yerton Memorial Library you can learn more about mushroom hunting. Each session is solely focused on how to forge mushrooms safely. Please see the attached PDF for more details. \nFUNGI
URL:https://kidefm.org/eventinfo/fungi/2026-06-30/
CATEGORIES:General
END:VEVENT
BEGIN:VEVENT
DTSTART;VALUE=DATE:20260701
DTEND;VALUE=DATE:20260703
DTSTAMP:20260423T035916
CREATED:20260422T001904Z
LAST-MODIFIED:20260422T001904Z
UID:10006284-1782871200-1782957599@kidefm.org
SUMMARY:MMIP Week
DESCRIPTION:
URL:https://kidefm.org/eventinfo/mmip-week/2026-07-01/
CATEGORIES:General
END:VEVENT
BEGIN:VEVENT
DTSTART;VALUE=DATE:20260702
DTEND;VALUE=DATE:20260704
DTSTAMP:20260423T035916
CREATED:20260422T001904Z
LAST-MODIFIED:20260422T001904Z
UID:10006285-1782957600-1783043999@kidefm.org
SUMMARY:MMIP Week
DESCRIPTION:
URL:https://kidefm.org/eventinfo/mmip-week/2026-07-02/
CATEGORIES:General
END:VEVENT
BEGIN:VEVENT
DTSTART;VALUE=DATE:20260703
DTEND;VALUE=DATE:20260705
DTSTAMP:20260423T035916
CREATED:20260422T001904Z
LAST-MODIFIED:20260422T001904Z
UID:10006286-1783044000-1783130399@kidefm.org
SUMMARY:MMIP Week
DESCRIPTION:
URL:https://kidefm.org/eventinfo/mmip-week/2026-07-03/
CATEGORIES:General
END:VEVENT
BEGIN:VEVENT
DTSTART;VALUE=DATE:20260704
DTEND;VALUE=DATE:20260706
DTSTAMP:20260423T035916
CREATED:20260422T001904Z
LAST-MODIFIED:20260422T001904Z
UID:10006287-1783130400-1783216799@kidefm.org
SUMMARY:MMIP Week
DESCRIPTION:
URL:https://kidefm.org/eventinfo/mmip-week/2026-07-04/
CATEGORIES:General
END:VEVENT
BEGIN:VEVENT
DTSTART;VALUE=DATE:20260705
DTEND;VALUE=DATE:20260707
DTSTAMP:20260423T035916
CREATED:20260422T001904Z
LAST-MODIFIED:20260422T001904Z
UID:10006288-1783216800-1783303199@kidefm.org
SUMMARY:MMIP Week
DESCRIPTION:
URL:https://kidefm.org/eventinfo/mmip-week/2026-07-05/
CATEGORIES:General
END:VEVENT
BEGIN:VEVENT
DTSTART;VALUE=DATE:20260706
DTEND;VALUE=DATE:20260708
DTSTAMP:20260423T035916
CREATED:20260422T001904Z
LAST-MODIFIED:20260422T001904Z
UID:10006289-1783303200-1783389599@kidefm.org
SUMMARY:MMIP Week
DESCRIPTION:
URL:https://kidefm.org/eventinfo/mmip-week/2026-07-06/
CATEGORIES:General
END:VEVENT
BEGIN:VEVENT
DTSTART;VALUE=DATE:20260707
DTEND;VALUE=DATE:20260709
DTSTAMP:20260423T035917
CREATED:20260422T001904Z
LAST-MODIFIED:20260422T001904Z
UID:10006290-1783389600-1783475999@kidefm.org
SUMMARY:MMIP Week
DESCRIPTION:
URL:https://kidefm.org/eventinfo/mmip-week/2026-07-07/
CATEGORIES:General
END:VEVENT
BEGIN:VEVENT
DTSTART;TZID=America/Los_Angeles:20260707T163000
DTEND;TZID=America/Los_Angeles:20260707T180000
DTSTAMP:20260423T035917
CREATED:20251029T181648Z
LAST-MODIFIED:20251029T181947Z
UID:10005971-1783441800-1783447200@kidefm.org
SUMMARY:FUNGI
DESCRIPTION:Today at the Kim Yerton Memorial Library you can learn more about mushroom hunting. Each session is solely focused on how to forge mushrooms safely. Please see the attached PDF for more details. \nFUNGI
URL:https://kidefm.org/eventinfo/fungi/2026-07-07/
CATEGORIES:General
END:VEVENT
BEGIN:VEVENT
DTSTART;VALUE=DATE:20260708
DTEND;VALUE=DATE:20260710
DTSTAMP:20260423T035917
CREATED:20260422T001904Z
LAST-MODIFIED:20260422T001904Z
UID:10006291-1783476000-1783562399@kidefm.org
SUMMARY:MMIP Week
DESCRIPTION:
URL:https://kidefm.org/eventinfo/mmip-week/2026-07-08/
CATEGORIES:General
END:VEVENT
BEGIN:VEVENT
DTSTART;VALUE=DATE:20260709
DTEND;VALUE=DATE:20260711
DTSTAMP:20260423T035917
CREATED:20260422T001904Z
LAST-MODIFIED:20260422T001904Z
UID:10006292-1783562400-1783648799@kidefm.org
SUMMARY:MMIP Week
DESCRIPTION:
URL:https://kidefm.org/eventinfo/mmip-week/2026-07-09/
CATEGORIES:General
END:VEVENT
END:VCALENDAR