BEGIN:VCALENDAR
VERSION:2.0
PRODID:-//KIDE FM - ECPv6.15.20//NONSGML v1.0//EN
CALSCALE:GREGORIAN
METHOD:PUBLISH
X-WR-CALNAME:KIDE FM
X-ORIGINAL-URL:https://kidefm.org
X-WR-CALDESC:Events for KIDE FM
REFRESH-INTERVAL;VALUE=DURATION:PT1H
X-Robots-Tag:noindex
X-PUBLISHED-TTL:PT1H
BEGIN:VTIMEZONE
TZID:America/Los_Angeles
BEGIN:DAYLIGHT
TZOFFSETFROM:-0800
TZOFFSETTO:-0700
TZNAME:PDT
DTSTART:20250309T100000
END:DAYLIGHT
BEGIN:STANDARD
TZOFFSETFROM:-0700
TZOFFSETTO:-0800
TZNAME:PST
DTSTART:20251102T090000
END:STANDARD
BEGIN:DAYLIGHT
TZOFFSETFROM:-0800
TZOFFSETTO:-0700
TZNAME:PDT
DTSTART:20260308T100000
END:DAYLIGHT
BEGIN:STANDARD
TZOFFSETFROM:-0700
TZOFFSETTO:-0800
TZNAME:PST
DTSTART:20261101T090000
END:STANDARD
BEGIN:DAYLIGHT
TZOFFSETFROM:-0800
TZOFFSETTO:-0700
TZNAME:PDT
DTSTART:20270314T100000
END:DAYLIGHT
BEGIN:STANDARD
TZOFFSETFROM:-0700
TZOFFSETTO:-0800
TZNAME:PST
DTSTART:20271107T090000
END:STANDARD
END:VTIMEZONE
BEGIN:VEVENT
DTSTART;VALUE=DATE:20260901
DTEND;VALUE=DATE:20260903
DTSTAMP:20260421T180833
CREATED:20260422T001904Z
LAST-MODIFIED:20260422T001904Z
UID:10006346-1788228000-1788314399@kidefm.org
SUMMARY:MMIP Week
DESCRIPTION:
URL:https://kidefm.org/eventinfo/mmip-week/2026-09-01/
CATEGORIES:General
END:VEVENT
BEGIN:VEVENT
DTSTART;TZID=America/Los_Angeles:20260901T163000
DTEND;TZID=America/Los_Angeles:20260901T180000
DTSTAMP:20260421T180833
CREATED:20251029T181648Z
LAST-MODIFIED:20251029T181947Z
UID:10005979-1788280200-1788285600@kidefm.org
SUMMARY:FUNGI
DESCRIPTION:Today at the Kim Yerton Memorial Library you can learn more about mushroom hunting. Each session is solely focused on how to forge mushrooms safely. Please see the attached PDF for more details. \nFUNGI
URL:https://kidefm.org/eventinfo/fungi/2026-09-01/
CATEGORIES:General
END:VEVENT
BEGIN:VEVENT
DTSTART;VALUE=DATE:20260902
DTEND;VALUE=DATE:20260904
DTSTAMP:20260421T180833
CREATED:20260422T001904Z
LAST-MODIFIED:20260422T001904Z
UID:10006347-1788314400-1788400799@kidefm.org
SUMMARY:MMIP Week
DESCRIPTION:
URL:https://kidefm.org/eventinfo/mmip-week/2026-09-02/
CATEGORIES:General
END:VEVENT
BEGIN:VEVENT
DTSTART;VALUE=DATE:20260903
DTEND;VALUE=DATE:20260905
DTSTAMP:20260421T180833
CREATED:20260422T001904Z
LAST-MODIFIED:20260422T001904Z
UID:10006348-1788400800-1788487199@kidefm.org
SUMMARY:MMIP Week
DESCRIPTION:
URL:https://kidefm.org/eventinfo/mmip-week/2026-09-03/
CATEGORIES:General
END:VEVENT
BEGIN:VEVENT
DTSTART;VALUE=DATE:20260904
DTEND;VALUE=DATE:20260906
DTSTAMP:20260421T180833
CREATED:20260422T001904Z
LAST-MODIFIED:20260422T001904Z
UID:10006349-1788487200-1788573599@kidefm.org
SUMMARY:MMIP Week
DESCRIPTION:
URL:https://kidefm.org/eventinfo/mmip-week/2026-09-04/
CATEGORIES:General
END:VEVENT
BEGIN:VEVENT
DTSTART;VALUE=DATE:20260905
DTEND;VALUE=DATE:20260907
DTSTAMP:20260421T180833
CREATED:20260422T001904Z
LAST-MODIFIED:20260422T001904Z
UID:10006350-1788573600-1788659999@kidefm.org
SUMMARY:MMIP Week
DESCRIPTION:
URL:https://kidefm.org/eventinfo/mmip-week/2026-09-05/
CATEGORIES:General
END:VEVENT
BEGIN:VEVENT
DTSTART;VALUE=DATE:20260906
DTEND;VALUE=DATE:20260908
DTSTAMP:20260421T180833
CREATED:20260422T001904Z
LAST-MODIFIED:20260422T001904Z
UID:10006351-1788660000-1788746399@kidefm.org
SUMMARY:MMIP Week
DESCRIPTION:
URL:https://kidefm.org/eventinfo/mmip-week/2026-09-06/
CATEGORIES:General
END:VEVENT
BEGIN:VEVENT
DTSTART;VALUE=DATE:20260907
DTEND;VALUE=DATE:20260909
DTSTAMP:20260421T180833
CREATED:20260422T001904Z
LAST-MODIFIED:20260422T001904Z
UID:10006352-1788746400-1788832799@kidefm.org
SUMMARY:MMIP Week
DESCRIPTION:
URL:https://kidefm.org/eventinfo/mmip-week/2026-09-07/
CATEGORIES:General
END:VEVENT
BEGIN:VEVENT
DTSTART;VALUE=DATE:20260908
DTEND;VALUE=DATE:20260910
DTSTAMP:20260421T180833
CREATED:20260422T001904Z
LAST-MODIFIED:20260422T001904Z
UID:10006353-1788832800-1788919199@kidefm.org
SUMMARY:MMIP Week
DESCRIPTION:
URL:https://kidefm.org/eventinfo/mmip-week/2026-09-08/
CATEGORIES:General
END:VEVENT
BEGIN:VEVENT
DTSTART;TZID=America/Los_Angeles:20260908T163000
DTEND;TZID=America/Los_Angeles:20260908T180000
DTSTAMP:20260421T180833
CREATED:20251029T181648Z
LAST-MODIFIED:20251029T181947Z
UID:10005980-1788885000-1788890400@kidefm.org
SUMMARY:FUNGI
DESCRIPTION:Today at the Kim Yerton Memorial Library you can learn more about mushroom hunting. Each session is solely focused on how to forge mushrooms safely. Please see the attached PDF for more details. \nFUNGI
URL:https://kidefm.org/eventinfo/fungi/2026-09-08/
CATEGORIES:General
END:VEVENT
BEGIN:VEVENT
DTSTART;VALUE=DATE:20260909
DTEND;VALUE=DATE:20260911
DTSTAMP:20260421T180833
CREATED:20260422T001904Z
LAST-MODIFIED:20260422T001904Z
UID:10006354-1788919200-1789005599@kidefm.org
SUMMARY:MMIP Week
DESCRIPTION:
URL:https://kidefm.org/eventinfo/mmip-week/2026-09-09/
CATEGORIES:General
END:VEVENT
BEGIN:VEVENT
DTSTART;VALUE=DATE:20260910
DTEND;VALUE=DATE:20260912
DTSTAMP:20260421T180833
CREATED:20260422T001904Z
LAST-MODIFIED:20260422T001904Z
UID:10006355-1789005600-1789091999@kidefm.org
SUMMARY:MMIP Week
DESCRIPTION:
URL:https://kidefm.org/eventinfo/mmip-week/2026-09-10/
CATEGORIES:General
END:VEVENT
BEGIN:VEVENT
DTSTART;VALUE=DATE:20260911
DTEND;VALUE=DATE:20260913
DTSTAMP:20260421T180833
CREATED:20260422T001904Z
LAST-MODIFIED:20260422T001904Z
UID:10006356-1789092000-1789178399@kidefm.org
SUMMARY:MMIP Week
DESCRIPTION:
URL:https://kidefm.org/eventinfo/mmip-week/2026-09-11/
CATEGORIES:General
END:VEVENT
BEGIN:VEVENT
DTSTART;VALUE=DATE:20260912
DTEND;VALUE=DATE:20260914
DTSTAMP:20260421T180833
CREATED:20260422T001904Z
LAST-MODIFIED:20260422T001904Z
UID:10006357-1789178400-1789264799@kidefm.org
SUMMARY:MMIP Week
DESCRIPTION:
URL:https://kidefm.org/eventinfo/mmip-week/2026-09-12/
CATEGORIES:General
END:VEVENT
BEGIN:VEVENT
DTSTART;VALUE=DATE:20260913
DTEND;VALUE=DATE:20260915
DTSTAMP:20260421T180833
CREATED:20260422T001904Z
LAST-MODIFIED:20260422T001904Z
UID:10006358-1789264800-1789351199@kidefm.org
SUMMARY:MMIP Week
DESCRIPTION:
URL:https://kidefm.org/eventinfo/mmip-week/2026-09-13/
CATEGORIES:General
END:VEVENT
BEGIN:VEVENT
DTSTART;VALUE=DATE:20260914
DTEND;VALUE=DATE:20260916
DTSTAMP:20260421T180833
CREATED:20260422T001904Z
LAST-MODIFIED:20260422T001904Z
UID:10006359-1789351200-1789437599@kidefm.org
SUMMARY:MMIP Week
DESCRIPTION:
URL:https://kidefm.org/eventinfo/mmip-week/2026-09-14/
CATEGORIES:General
END:VEVENT
BEGIN:VEVENT
DTSTART;VALUE=DATE:20260915
DTEND;VALUE=DATE:20260917
DTSTAMP:20260421T180833
CREATED:20260422T001904Z
LAST-MODIFIED:20260422T001904Z
UID:10006360-1789437600-1789523999@kidefm.org
SUMMARY:MMIP Week
DESCRIPTION:
URL:https://kidefm.org/eventinfo/mmip-week/2026-09-15/
CATEGORIES:General
END:VEVENT
BEGIN:VEVENT
DTSTART;TZID=America/Los_Angeles:20260915T163000
DTEND;TZID=America/Los_Angeles:20260915T180000
DTSTAMP:20260421T180833
CREATED:20251029T181648Z
LAST-MODIFIED:20251029T181947Z
UID:10005981-1789489800-1789495200@kidefm.org
SUMMARY:FUNGI
DESCRIPTION:Today at the Kim Yerton Memorial Library you can learn more about mushroom hunting. Each session is solely focused on how to forge mushrooms safely. Please see the attached PDF for more details. \nFUNGI
URL:https://kidefm.org/eventinfo/fungi/2026-09-15/
CATEGORIES:General
END:VEVENT
BEGIN:VEVENT
DTSTART;VALUE=DATE:20260916
DTEND;VALUE=DATE:20260918
DTSTAMP:20260421T180833
CREATED:20260422T001904Z
LAST-MODIFIED:20260422T001904Z
UID:10006361-1789524000-1789610399@kidefm.org
SUMMARY:MMIP Week
DESCRIPTION:
URL:https://kidefm.org/eventinfo/mmip-week/2026-09-16/
CATEGORIES:General
END:VEVENT
BEGIN:VEVENT
DTSTART;VALUE=DATE:20260917
DTEND;VALUE=DATE:20260919
DTSTAMP:20260421T180833
CREATED:20260422T001904Z
LAST-MODIFIED:20260422T001904Z
UID:10006362-1789610400-1789696799@kidefm.org
SUMMARY:MMIP Week
DESCRIPTION:
URL:https://kidefm.org/eventinfo/mmip-week/2026-09-17/
CATEGORIES:General
END:VEVENT
BEGIN:VEVENT
DTSTART;VALUE=DATE:20260918
DTEND;VALUE=DATE:20260920
DTSTAMP:20260421T180833
CREATED:20260422T001904Z
LAST-MODIFIED:20260422T001904Z
UID:10006363-1789696800-1789783199@kidefm.org
SUMMARY:MMIP Week
DESCRIPTION:
URL:https://kidefm.org/eventinfo/mmip-week/2026-09-18/
CATEGORIES:General
END:VEVENT
BEGIN:VEVENT
DTSTART;VALUE=DATE:20260919
DTEND;VALUE=DATE:20260921
DTSTAMP:20260421T180833
CREATED:20260422T001904Z
LAST-MODIFIED:20260422T001904Z
UID:10006364-1789783200-1789869599@kidefm.org
SUMMARY:MMIP Week
DESCRIPTION:
URL:https://kidefm.org/eventinfo/mmip-week/2026-09-19/
CATEGORIES:General
END:VEVENT
BEGIN:VEVENT
DTSTART;VALUE=DATE:20260920
DTEND;VALUE=DATE:20260922
DTSTAMP:20260421T180833
CREATED:20260422T001904Z
LAST-MODIFIED:20260422T001904Z
UID:10006365-1789869600-1789955999@kidefm.org
SUMMARY:MMIP Week
DESCRIPTION:
URL:https://kidefm.org/eventinfo/mmip-week/2026-09-20/
CATEGORIES:General
END:VEVENT
BEGIN:VEVENT
DTSTART;VALUE=DATE:20260921
DTEND;VALUE=DATE:20260923
DTSTAMP:20260421T180833
CREATED:20260422T001904Z
LAST-MODIFIED:20260422T001904Z
UID:10006366-1789956000-1790042399@kidefm.org
SUMMARY:MMIP Week
DESCRIPTION:
URL:https://kidefm.org/eventinfo/mmip-week/2026-09-21/
CATEGORIES:General
END:VEVENT
BEGIN:VEVENT
DTSTART;VALUE=DATE:20260922
DTEND;VALUE=DATE:20260924
DTSTAMP:20260421T180833
CREATED:20260422T001904Z
LAST-MODIFIED:20260422T001904Z
UID:10006367-1790042400-1790128799@kidefm.org
SUMMARY:MMIP Week
DESCRIPTION:
URL:https://kidefm.org/eventinfo/mmip-week/2026-09-22/
CATEGORIES:General
END:VEVENT
BEGIN:VEVENT
DTSTART;TZID=America/Los_Angeles:20260922T163000
DTEND;TZID=America/Los_Angeles:20260922T180000
DTSTAMP:20260421T180833
CREATED:20251029T181648Z
LAST-MODIFIED:20251029T181947Z
UID:10005982-1790094600-1790100000@kidefm.org
SUMMARY:FUNGI
DESCRIPTION:Today at the Kim Yerton Memorial Library you can learn more about mushroom hunting. Each session is solely focused on how to forge mushrooms safely. Please see the attached PDF for more details. \nFUNGI
URL:https://kidefm.org/eventinfo/fungi/2026-09-22/
CATEGORIES:General
END:VEVENT
BEGIN:VEVENT
DTSTART;VALUE=DATE:20260923
DTEND;VALUE=DATE:20260925
DTSTAMP:20260421T180833
CREATED:20260422T001904Z
LAST-MODIFIED:20260422T001904Z
UID:10006368-1790128800-1790215199@kidefm.org
SUMMARY:MMIP Week
DESCRIPTION:
URL:https://kidefm.org/eventinfo/mmip-week/2026-09-23/
CATEGORIES:General
END:VEVENT
BEGIN:VEVENT
DTSTART;VALUE=DATE:20260924
DTEND;VALUE=DATE:20260926
DTSTAMP:20260421T180833
CREATED:20260422T001904Z
LAST-MODIFIED:20260422T001904Z
UID:10006369-1790215200-1790301599@kidefm.org
SUMMARY:MMIP Week
DESCRIPTION:
URL:https://kidefm.org/eventinfo/mmip-week/2026-09-24/
CATEGORIES:General
END:VEVENT
BEGIN:VEVENT
DTSTART;VALUE=DATE:20260925
DTEND;VALUE=DATE:20260927
DTSTAMP:20260421T180833
CREATED:20260422T001904Z
LAST-MODIFIED:20260422T001904Z
UID:10006370-1790301600-1790387999@kidefm.org
SUMMARY:MMIP Week
DESCRIPTION:
URL:https://kidefm.org/eventinfo/mmip-week/2026-09-25/
CATEGORIES:General
END:VEVENT
BEGIN:VEVENT
DTSTART;VALUE=DATE:20260926
DTEND;VALUE=DATE:20260928
DTSTAMP:20260421T180833
CREATED:20260422T001904Z
LAST-MODIFIED:20260422T001904Z
UID:10006371-1790388000-1790474399@kidefm.org
SUMMARY:MMIP Week
DESCRIPTION:
URL:https://kidefm.org/eventinfo/mmip-week/2026-09-26/
CATEGORIES:General
END:VEVENT
END:VCALENDAR