BEGIN:VCALENDAR
VERSION:2.0
PRODID:-//KIDE FM - ECPv6.15.20//NONSGML v1.0//EN
CALSCALE:GREGORIAN
METHOD:PUBLISH
X-ORIGINAL-URL:https://kidefm.org
X-WR-CALDESC:Events for KIDE FM
REFRESH-INTERVAL;VALUE=DURATION:PT1H
X-Robots-Tag:noindex
X-PUBLISHED-TTL:PT1H
BEGIN:VTIMEZONE
TZID:America/Los_Angeles
BEGIN:DAYLIGHT
TZOFFSETFROM:-0800
TZOFFSETTO:-0700
TZNAME:PDT
DTSTART:20250309T100000
END:DAYLIGHT
BEGIN:STANDARD
TZOFFSETFROM:-0700
TZOFFSETTO:-0800
TZNAME:PST
DTSTART:20251102T090000
END:STANDARD
BEGIN:DAYLIGHT
TZOFFSETFROM:-0800
TZOFFSETTO:-0700
TZNAME:PDT
DTSTART:20260308T100000
END:DAYLIGHT
BEGIN:STANDARD
TZOFFSETFROM:-0700
TZOFFSETTO:-0800
TZNAME:PST
DTSTART:20261101T090000
END:STANDARD
BEGIN:DAYLIGHT
TZOFFSETFROM:-0800
TZOFFSETTO:-0700
TZNAME:PDT
DTSTART:20270314T100000
END:DAYLIGHT
BEGIN:STANDARD
TZOFFSETFROM:-0700
TZOFFSETTO:-0800
TZNAME:PST
DTSTART:20271107T090000
END:STANDARD
END:VTIMEZONE
BEGIN:VEVENT
DTSTART;VALUE=DATE:20261117
DTEND;VALUE=DATE:20261119
DTSTAMP:20260423T170901
CREATED:20260422T001904Z
LAST-MODIFIED:20260422T001904Z
UID:10006423-1794880800-1794967199@kidefm.org
SUMMARY:MMIP Week
DESCRIPTION:
URL:https://kidefm.org/eventinfo/mmip-week/2026-11-17/
CATEGORIES:General
END:VEVENT
BEGIN:VEVENT
DTSTART;TZID=America/Los_Angeles:20261117T163000
DTEND;TZID=America/Los_Angeles:20261117T180000
DTSTAMP:20260423T170901
CREATED:20251029T181648Z
LAST-MODIFIED:20251029T181947Z
UID:10005990-1794933000-1794938400@kidefm.org
SUMMARY:FUNGI
DESCRIPTION:Today at the Kim Yerton Memorial Library you can learn more about mushroom hunting. Each session is solely focused on how to forge mushrooms safely. Please see the attached PDF for more details. \nFUNGI
URL:https://kidefm.org/eventinfo/fungi/2026-11-17/
CATEGORIES:General
END:VEVENT
BEGIN:VEVENT
DTSTART;VALUE=DATE:20261118
DTEND;VALUE=DATE:20261120
DTSTAMP:20260423T170901
CREATED:20260422T001904Z
LAST-MODIFIED:20260422T001904Z
UID:10006424-1794967200-1795053599@kidefm.org
SUMMARY:MMIP Week
DESCRIPTION:
URL:https://kidefm.org/eventinfo/mmip-week/2026-11-18/
CATEGORIES:General
END:VEVENT
BEGIN:VEVENT
DTSTART;VALUE=DATE:20261119
DTEND;VALUE=DATE:20261121
DTSTAMP:20260423T170901
CREATED:20260422T001904Z
LAST-MODIFIED:20260422T001904Z
UID:10006425-1795053600-1795139999@kidefm.org
SUMMARY:MMIP Week
DESCRIPTION:
URL:https://kidefm.org/eventinfo/mmip-week/2026-11-19/
CATEGORIES:General
END:VEVENT
BEGIN:VEVENT
DTSTART;VALUE=DATE:20261120
DTEND;VALUE=DATE:20261122
DTSTAMP:20260423T170901
CREATED:20260422T001904Z
LAST-MODIFIED:20260422T001904Z
UID:10006426-1795140000-1795226399@kidefm.org
SUMMARY:MMIP Week
DESCRIPTION:
URL:https://kidefm.org/eventinfo/mmip-week/2026-11-20/
CATEGORIES:General
END:VEVENT
BEGIN:VEVENT
DTSTART;VALUE=DATE:20261121
DTEND;VALUE=DATE:20261123
DTSTAMP:20260423T170901
CREATED:20260422T001904Z
LAST-MODIFIED:20260422T001904Z
UID:10006427-1795226400-1795312799@kidefm.org
SUMMARY:MMIP Week
DESCRIPTION:
URL:https://kidefm.org/eventinfo/mmip-week/2026-11-21/
CATEGORIES:General
END:VEVENT
BEGIN:VEVENT
DTSTART;VALUE=DATE:20261122
DTEND;VALUE=DATE:20261124
DTSTAMP:20260423T170901
CREATED:20260422T001904Z
LAST-MODIFIED:20260422T001904Z
UID:10006428-1795312800-1795399199@kidefm.org
SUMMARY:MMIP Week
DESCRIPTION:
URL:https://kidefm.org/eventinfo/mmip-week/2026-11-22/
CATEGORIES:General
END:VEVENT
BEGIN:VEVENT
DTSTART;VALUE=DATE:20261123
DTEND;VALUE=DATE:20261125
DTSTAMP:20260423T170901
CREATED:20260422T001904Z
LAST-MODIFIED:20260422T001904Z
UID:10006429-1795399200-1795485599@kidefm.org
SUMMARY:MMIP Week
DESCRIPTION:
URL:https://kidefm.org/eventinfo/mmip-week/2026-11-23/
CATEGORIES:General
END:VEVENT
BEGIN:VEVENT
DTSTART;VALUE=DATE:20261124
DTEND;VALUE=DATE:20261126
DTSTAMP:20260423T170901
CREATED:20260422T001904Z
LAST-MODIFIED:20260422T001904Z
UID:10006430-1795485600-1795571999@kidefm.org
SUMMARY:MMIP Week
DESCRIPTION:
URL:https://kidefm.org/eventinfo/mmip-week/2026-11-24/
CATEGORIES:General
END:VEVENT
BEGIN:VEVENT
DTSTART;TZID=America/Los_Angeles:20261124T163000
DTEND;TZID=America/Los_Angeles:20261124T180000
DTSTAMP:20260423T170901
CREATED:20251029T181648Z
LAST-MODIFIED:20251029T181947Z
UID:10005991-1795537800-1795543200@kidefm.org
SUMMARY:FUNGI
DESCRIPTION:Today at the Kim Yerton Memorial Library you can learn more about mushroom hunting. Each session is solely focused on how to forge mushrooms safely. Please see the attached PDF for more details. \nFUNGI
URL:https://kidefm.org/eventinfo/fungi/2026-11-24/
CATEGORIES:General
END:VEVENT
BEGIN:VEVENT
DTSTART;VALUE=DATE:20261125
DTEND;VALUE=DATE:20261127
DTSTAMP:20260423T170901
CREATED:20260422T001904Z
LAST-MODIFIED:20260422T001904Z
UID:10006431-1795572000-1795658399@kidefm.org
SUMMARY:MMIP Week
DESCRIPTION:
URL:https://kidefm.org/eventinfo/mmip-week/2026-11-25/
CATEGORIES:General
END:VEVENT
BEGIN:VEVENT
DTSTART;VALUE=DATE:20261126
DTEND;VALUE=DATE:20261128
DTSTAMP:20260423T170901
CREATED:20260422T001904Z
LAST-MODIFIED:20260422T001904Z
UID:10006432-1795658400-1795744799@kidefm.org
SUMMARY:MMIP Week
DESCRIPTION:
URL:https://kidefm.org/eventinfo/mmip-week/2026-11-26/
CATEGORIES:General
END:VEVENT
BEGIN:VEVENT
DTSTART;VALUE=DATE:20261127
DTEND;VALUE=DATE:20261129
DTSTAMP:20260423T170901
CREATED:20260422T001904Z
LAST-MODIFIED:20260422T001904Z
UID:10006433-1795744800-1795831199@kidefm.org
SUMMARY:MMIP Week
DESCRIPTION:
URL:https://kidefm.org/eventinfo/mmip-week/2026-11-27/
CATEGORIES:General
END:VEVENT
BEGIN:VEVENT
DTSTART;VALUE=DATE:20261128
DTEND;VALUE=DATE:20261130
DTSTAMP:20260423T170901
CREATED:20260422T001904Z
LAST-MODIFIED:20260422T001904Z
UID:10006434-1795831200-1795917599@kidefm.org
SUMMARY:MMIP Week
DESCRIPTION:
URL:https://kidefm.org/eventinfo/mmip-week/2026-11-28/
CATEGORIES:General
END:VEVENT
BEGIN:VEVENT
DTSTART;VALUE=DATE:20261129
DTEND;VALUE=DATE:20261201
DTSTAMP:20260423T170901
CREATED:20260422T001904Z
LAST-MODIFIED:20260422T001904Z
UID:10006435-1795917600-1796003999@kidefm.org
SUMMARY:MMIP Week
DESCRIPTION:
URL:https://kidefm.org/eventinfo/mmip-week/2026-11-29/
CATEGORIES:General
END:VEVENT
BEGIN:VEVENT
DTSTART;VALUE=DATE:20261130
DTEND;VALUE=DATE:20261202
DTSTAMP:20260423T170901
CREATED:20260422T001904Z
LAST-MODIFIED:20260422T001904Z
UID:10006436-1796004000-1796090399@kidefm.org
SUMMARY:MMIP Week
DESCRIPTION:
URL:https://kidefm.org/eventinfo/mmip-week/2026-11-30/
CATEGORIES:General
END:VEVENT
BEGIN:VEVENT
DTSTART;VALUE=DATE:20261201
DTEND;VALUE=DATE:20261203
DTSTAMP:20260423T170901
CREATED:20260422T001904Z
LAST-MODIFIED:20260422T001904Z
UID:10006437-1796090400-1796176799@kidefm.org
SUMMARY:MMIP Week
DESCRIPTION:
URL:https://kidefm.org/eventinfo/mmip-week/2026-12-01/
CATEGORIES:General
END:VEVENT
BEGIN:VEVENT
DTSTART;TZID=America/Los_Angeles:20261201T163000
DTEND;TZID=America/Los_Angeles:20261201T180000
DTSTAMP:20260423T170901
CREATED:20251029T181648Z
LAST-MODIFIED:20251029T181947Z
UID:10005992-1796142600-1796148000@kidefm.org
SUMMARY:FUNGI
DESCRIPTION:Today at the Kim Yerton Memorial Library you can learn more about mushroom hunting. Each session is solely focused on how to forge mushrooms safely. Please see the attached PDF for more details. \nFUNGI
URL:https://kidefm.org/eventinfo/fungi/2026-12-01/
CATEGORIES:General
END:VEVENT
BEGIN:VEVENT
DTSTART;VALUE=DATE:20261202
DTEND;VALUE=DATE:20261204
DTSTAMP:20260423T170901
CREATED:20260422T001904Z
LAST-MODIFIED:20260422T001904Z
UID:10006438-1796176800-1796263199@kidefm.org
SUMMARY:MMIP Week
DESCRIPTION:
URL:https://kidefm.org/eventinfo/mmip-week/2026-12-02/
CATEGORIES:General
END:VEVENT
BEGIN:VEVENT
DTSTART;VALUE=DATE:20261203
DTEND;VALUE=DATE:20261205
DTSTAMP:20260423T170901
CREATED:20260422T001904Z
LAST-MODIFIED:20260422T001904Z
UID:10006439-1796263200-1796349599@kidefm.org
SUMMARY:MMIP Week
DESCRIPTION:
URL:https://kidefm.org/eventinfo/mmip-week/2026-12-03/
CATEGORIES:General
END:VEVENT
BEGIN:VEVENT
DTSTART;VALUE=DATE:20261204
DTEND;VALUE=DATE:20261206
DTSTAMP:20260423T170901
CREATED:20260422T001904Z
LAST-MODIFIED:20260422T001904Z
UID:10006440-1796349600-1796435999@kidefm.org
SUMMARY:MMIP Week
DESCRIPTION:
URL:https://kidefm.org/eventinfo/mmip-week/2026-12-04/
CATEGORIES:General
END:VEVENT
BEGIN:VEVENT
DTSTART;VALUE=DATE:20261205
DTEND;VALUE=DATE:20261207
DTSTAMP:20260423T170901
CREATED:20260422T001904Z
LAST-MODIFIED:20260422T001904Z
UID:10006441-1796436000-1796522399@kidefm.org
SUMMARY:MMIP Week
DESCRIPTION:
URL:https://kidefm.org/eventinfo/mmip-week/2026-12-05/
CATEGORIES:General
END:VEVENT
BEGIN:VEVENT
DTSTART;VALUE=DATE:20261206
DTEND;VALUE=DATE:20261208
DTSTAMP:20260423T170901
CREATED:20260422T001904Z
LAST-MODIFIED:20260422T001904Z
UID:10006442-1796522400-1796608799@kidefm.org
SUMMARY:MMIP Week
DESCRIPTION:
URL:https://kidefm.org/eventinfo/mmip-week/2026-12-06/
CATEGORIES:General
END:VEVENT
BEGIN:VEVENT
DTSTART;VALUE=DATE:20261207
DTEND;VALUE=DATE:20261209
DTSTAMP:20260423T170901
CREATED:20260422T001904Z
LAST-MODIFIED:20260422T001904Z
UID:10006443-1796608800-1796695199@kidefm.org
SUMMARY:MMIP Week
DESCRIPTION:
URL:https://kidefm.org/eventinfo/mmip-week/2026-12-07/
CATEGORIES:General
END:VEVENT
BEGIN:VEVENT
DTSTART;VALUE=DATE:20261208
DTEND;VALUE=DATE:20261210
DTSTAMP:20260423T170901
CREATED:20260422T001904Z
LAST-MODIFIED:20260422T001904Z
UID:10006444-1796695200-1796781599@kidefm.org
SUMMARY:MMIP Week
DESCRIPTION:
URL:https://kidefm.org/eventinfo/mmip-week/2026-12-08/
CATEGORIES:General
END:VEVENT
BEGIN:VEVENT
DTSTART;TZID=America/Los_Angeles:20261208T163000
DTEND;TZID=America/Los_Angeles:20261208T180000
DTSTAMP:20260423T170901
CREATED:20251029T181648Z
LAST-MODIFIED:20251029T181947Z
UID:10005993-1796747400-1796752800@kidefm.org
SUMMARY:FUNGI
DESCRIPTION:Today at the Kim Yerton Memorial Library you can learn more about mushroom hunting. Each session is solely focused on how to forge mushrooms safely. Please see the attached PDF for more details. \nFUNGI
URL:https://kidefm.org/eventinfo/fungi/2026-12-08/
CATEGORIES:General
END:VEVENT
BEGIN:VEVENT
DTSTART;VALUE=DATE:20261209
DTEND;VALUE=DATE:20261211
DTSTAMP:20260423T170901
CREATED:20260422T001904Z
LAST-MODIFIED:20260422T001904Z
UID:10006445-1796781600-1796867999@kidefm.org
SUMMARY:MMIP Week
DESCRIPTION:
URL:https://kidefm.org/eventinfo/mmip-week/2026-12-09/
CATEGORIES:General
END:VEVENT
BEGIN:VEVENT
DTSTART;VALUE=DATE:20261210
DTEND;VALUE=DATE:20261212
DTSTAMP:20260423T170901
CREATED:20260422T001904Z
LAST-MODIFIED:20260422T001904Z
UID:10006446-1796868000-1796954399@kidefm.org
SUMMARY:MMIP Week
DESCRIPTION:
URL:https://kidefm.org/eventinfo/mmip-week/2026-12-10/
CATEGORIES:General
END:VEVENT
BEGIN:VEVENT
DTSTART;VALUE=DATE:20261211
DTEND;VALUE=DATE:20261213
DTSTAMP:20260423T170901
CREATED:20260422T001904Z
LAST-MODIFIED:20260422T001904Z
UID:10006447-1796954400-1797040799@kidefm.org
SUMMARY:MMIP Week
DESCRIPTION:
URL:https://kidefm.org/eventinfo/mmip-week/2026-12-11/
CATEGORIES:General
END:VEVENT
BEGIN:VEVENT
DTSTART;VALUE=DATE:20261212
DTEND;VALUE=DATE:20261214
DTSTAMP:20260423T170901
CREATED:20260422T001904Z
LAST-MODIFIED:20260422T001904Z
UID:10006448-1797040800-1797127199@kidefm.org
SUMMARY:MMIP Week
DESCRIPTION:
URL:https://kidefm.org/eventinfo/mmip-week/2026-12-12/
CATEGORIES:General
END:VEVENT
END:VCALENDAR