BEGIN:VCALENDAR
VERSION:2.0
PRODID:-//KIDE FM - ECPv6.15.20//NONSGML v1.0//EN
CALSCALE:GREGORIAN
METHOD:PUBLISH
X-WR-CALNAME:KIDE FM
X-ORIGINAL-URL:https://kidefm.org
X-WR-CALDESC:Events for KIDE FM
REFRESH-INTERVAL;VALUE=DURATION:PT1H
X-Robots-Tag:noindex
X-PUBLISHED-TTL:PT1H
BEGIN:VTIMEZONE
TZID:America/Los_Angeles
BEGIN:DAYLIGHT
TZOFFSETFROM:-0800
TZOFFSETTO:-0700
TZNAME:PDT
DTSTART:20250309T100000
END:DAYLIGHT
BEGIN:STANDARD
TZOFFSETFROM:-0700
TZOFFSETTO:-0800
TZNAME:PST
DTSTART:20251102T090000
END:STANDARD
BEGIN:DAYLIGHT
TZOFFSETFROM:-0800
TZOFFSETTO:-0700
TZNAME:PDT
DTSTART:20260308T100000
END:DAYLIGHT
BEGIN:STANDARD
TZOFFSETFROM:-0700
TZOFFSETTO:-0800
TZNAME:PST
DTSTART:20261101T090000
END:STANDARD
BEGIN:DAYLIGHT
TZOFFSETFROM:-0800
TZOFFSETTO:-0700
TZNAME:PDT
DTSTART:20270314T100000
END:DAYLIGHT
BEGIN:STANDARD
TZOFFSETFROM:-0700
TZOFFSETTO:-0800
TZNAME:PST
DTSTART:20271107T090000
END:STANDARD
END:VTIMEZONE
BEGIN:VEVENT
DTSTART;VALUE=DATE:20260603
DTEND;VALUE=DATE:20260605
DTSTAMP:20260423T035812
CREATED:20260422T001904Z
LAST-MODIFIED:20260422T001904Z
UID:10006256-1780452000-1780538399@kidefm.org
SUMMARY:MMIP Week
DESCRIPTION:
URL:https://kidefm.org/eventinfo/mmip-week/2026-06-03/
CATEGORIES:General
END:VEVENT
BEGIN:VEVENT
DTSTART;TZID=America/Los_Angeles:20260602T163000
DTEND;TZID=America/Los_Angeles:20260602T180000
DTSTAMP:20260423T035812
CREATED:20251029T181648Z
LAST-MODIFIED:20251029T181947Z
UID:10005966-1780417800-1780423200@kidefm.org
SUMMARY:FUNGI
DESCRIPTION:Today at the Kim Yerton Memorial Library you can learn more about mushroom hunting. Each session is solely focused on how to forge mushrooms safely. Please see the attached PDF for more details. \nFUNGI
URL:https://kidefm.org/eventinfo/fungi/2026-06-02/
CATEGORIES:General
END:VEVENT
BEGIN:VEVENT
DTSTART;VALUE=DATE:20260602
DTEND;VALUE=DATE:20260604
DTSTAMP:20260423T035812
CREATED:20260422T001904Z
LAST-MODIFIED:20260422T001904Z
UID:10006255-1780365600-1780451999@kidefm.org
SUMMARY:MMIP Week
DESCRIPTION:
URL:https://kidefm.org/eventinfo/mmip-week/2026-06-02/
CATEGORIES:General
END:VEVENT
BEGIN:VEVENT
DTSTART;VALUE=DATE:20260601
DTEND;VALUE=DATE:20260603
DTSTAMP:20260423T035812
CREATED:20260422T001904Z
LAST-MODIFIED:20260422T001904Z
UID:10006254-1780279200-1780365599@kidefm.org
SUMMARY:MMIP Week
DESCRIPTION:
URL:https://kidefm.org/eventinfo/mmip-week/2026-06-01/
CATEGORIES:General
END:VEVENT
BEGIN:VEVENT
DTSTART;VALUE=DATE:20260531
DTEND;VALUE=DATE:20260602
DTSTAMP:20260423T035812
CREATED:20260422T001904Z
LAST-MODIFIED:20260422T001904Z
UID:10006253-1780192800-1780279199@kidefm.org
SUMMARY:MMIP Week
DESCRIPTION:
URL:https://kidefm.org/eventinfo/mmip-week/2026-05-31/
CATEGORIES:General
END:VEVENT
BEGIN:VEVENT
DTSTART;VALUE=DATE:20260530
DTEND;VALUE=DATE:20260601
DTSTAMP:20260423T035812
CREATED:20260422T001904Z
LAST-MODIFIED:20260422T001904Z
UID:10006252-1780106400-1780192799@kidefm.org
SUMMARY:MMIP Week
DESCRIPTION:
URL:https://kidefm.org/eventinfo/mmip-week/2026-05-30/
CATEGORIES:General
END:VEVENT
BEGIN:VEVENT
DTSTART;VALUE=DATE:20260529
DTEND;VALUE=DATE:20260531
DTSTAMP:20260423T035812
CREATED:20260422T001904Z
LAST-MODIFIED:20260422T001904Z
UID:10006251-1780020000-1780106399@kidefm.org
SUMMARY:MMIP Week
DESCRIPTION:
URL:https://kidefm.org/eventinfo/mmip-week/2026-05-29/
CATEGORIES:General
END:VEVENT
BEGIN:VEVENT
DTSTART;VALUE=DATE:20260528
DTEND;VALUE=DATE:20260530
DTSTAMP:20260423T035812
CREATED:20260422T001904Z
LAST-MODIFIED:20260422T001904Z
UID:10006250-1779933600-1780019999@kidefm.org
SUMMARY:MMIP Week
DESCRIPTION:
URL:https://kidefm.org/eventinfo/mmip-week/2026-05-28/
CATEGORIES:General
END:VEVENT
BEGIN:VEVENT
DTSTART;VALUE=DATE:20260527
DTEND;VALUE=DATE:20260529
DTSTAMP:20260423T035812
CREATED:20260422T001904Z
LAST-MODIFIED:20260422T001904Z
UID:10006249-1779847200-1779933599@kidefm.org
SUMMARY:MMIP Week
DESCRIPTION:
URL:https://kidefm.org/eventinfo/mmip-week/2026-05-27/
CATEGORIES:General
END:VEVENT
BEGIN:VEVENT
DTSTART;TZID=America/Los_Angeles:20260526T163000
DTEND;TZID=America/Los_Angeles:20260526T180000
DTSTAMP:20260423T035812
CREATED:20251029T181648Z
LAST-MODIFIED:20251029T181947Z
UID:10005965-1779813000-1779818400@kidefm.org
SUMMARY:FUNGI
DESCRIPTION:Today at the Kim Yerton Memorial Library you can learn more about mushroom hunting. Each session is solely focused on how to forge mushrooms safely. Please see the attached PDF for more details. \nFUNGI
URL:https://kidefm.org/eventinfo/fungi/2026-05-26/
CATEGORIES:General
END:VEVENT
BEGIN:VEVENT
DTSTART;VALUE=DATE:20260526
DTEND;VALUE=DATE:20260528
DTSTAMP:20260423T035812
CREATED:20260422T001904Z
LAST-MODIFIED:20260422T001904Z
UID:10006248-1779760800-1779847199@kidefm.org
SUMMARY:MMIP Week
DESCRIPTION:
URL:https://kidefm.org/eventinfo/mmip-week/2026-05-26/
CATEGORIES:General
END:VEVENT
BEGIN:VEVENT
DTSTART;VALUE=DATE:20260525
DTEND;VALUE=DATE:20260527
DTSTAMP:20260423T035812
CREATED:20260422T001904Z
LAST-MODIFIED:20260422T001904Z
UID:10006247-1779674400-1779760799@kidefm.org
SUMMARY:MMIP Week
DESCRIPTION:
URL:https://kidefm.org/eventinfo/mmip-week/2026-05-25/
CATEGORIES:General
END:VEVENT
BEGIN:VEVENT
DTSTART;VALUE=DATE:20260524
DTEND;VALUE=DATE:20260526
DTSTAMP:20260423T035812
CREATED:20260422T001904Z
LAST-MODIFIED:20260422T001904Z
UID:10006246-1779588000-1779674399@kidefm.org
SUMMARY:MMIP Week
DESCRIPTION:
URL:https://kidefm.org/eventinfo/mmip-week/2026-05-24/
CATEGORIES:General
END:VEVENT
BEGIN:VEVENT
DTSTART;VALUE=DATE:20260523
DTEND;VALUE=DATE:20260525
DTSTAMP:20260423T035812
CREATED:20260422T001904Z
LAST-MODIFIED:20260422T001904Z
UID:10006245-1779501600-1779587999@kidefm.org
SUMMARY:MMIP Week
DESCRIPTION:
URL:https://kidefm.org/eventinfo/mmip-week/2026-05-23/
CATEGORIES:General
END:VEVENT
BEGIN:VEVENT
DTSTART;VALUE=DATE:20260522
DTEND;VALUE=DATE:20260524
DTSTAMP:20260423T035812
CREATED:20260422T001904Z
LAST-MODIFIED:20260422T001904Z
UID:10006244-1779415200-1779501599@kidefm.org
SUMMARY:MMIP Week
DESCRIPTION:
URL:https://kidefm.org/eventinfo/mmip-week/2026-05-22/
CATEGORIES:General
END:VEVENT
BEGIN:VEVENT
DTSTART;VALUE=DATE:20260521
DTEND;VALUE=DATE:20260523
DTSTAMP:20260423T035812
CREATED:20260422T001904Z
LAST-MODIFIED:20260422T001904Z
UID:10006243-1779328800-1779415199@kidefm.org
SUMMARY:MMIP Week
DESCRIPTION:
URL:https://kidefm.org/eventinfo/mmip-week/2026-05-21/
CATEGORIES:General
END:VEVENT
BEGIN:VEVENT
DTSTART;VALUE=DATE:20260520
DTEND;VALUE=DATE:20260522
DTSTAMP:20260423T035812
CREATED:20260422T001904Z
LAST-MODIFIED:20260422T001904Z
UID:10006242-1779242400-1779328799@kidefm.org
SUMMARY:MMIP Week
DESCRIPTION:
URL:https://kidefm.org/eventinfo/mmip-week/2026-05-20/
CATEGORIES:General
END:VEVENT
BEGIN:VEVENT
DTSTART;TZID=America/Los_Angeles:20260519T163000
DTEND;TZID=America/Los_Angeles:20260519T180000
DTSTAMP:20260423T035812
CREATED:20251029T181648Z
LAST-MODIFIED:20251029T181947Z
UID:10005964-1779208200-1779213600@kidefm.org
SUMMARY:FUNGI
DESCRIPTION:Today at the Kim Yerton Memorial Library you can learn more about mushroom hunting. Each session is solely focused on how to forge mushrooms safely. Please see the attached PDF for more details. \nFUNGI
URL:https://kidefm.org/eventinfo/fungi/2026-05-19/
CATEGORIES:General
END:VEVENT
BEGIN:VEVENT
DTSTART;VALUE=DATE:20260519
DTEND;VALUE=DATE:20260521
DTSTAMP:20260423T035812
CREATED:20260422T001904Z
LAST-MODIFIED:20260422T001904Z
UID:10006241-1779156000-1779242399@kidefm.org
SUMMARY:MMIP Week
DESCRIPTION:
URL:https://kidefm.org/eventinfo/mmip-week/2026-05-19/
CATEGORIES:General
END:VEVENT
BEGIN:VEVENT
DTSTART;VALUE=DATE:20260518
DTEND;VALUE=DATE:20260520
DTSTAMP:20260423T035812
CREATED:20260422T001904Z
LAST-MODIFIED:20260422T001904Z
UID:10006240-1779069600-1779155999@kidefm.org
SUMMARY:MMIP Week
DESCRIPTION:
URL:https://kidefm.org/eventinfo/mmip-week/2026-05-18/
CATEGORIES:General
END:VEVENT
BEGIN:VEVENT
DTSTART;VALUE=DATE:20260517
DTEND;VALUE=DATE:20260519
DTSTAMP:20260423T035812
CREATED:20260422T001904Z
LAST-MODIFIED:20260422T001904Z
UID:10006239-1778983200-1779069599@kidefm.org
SUMMARY:MMIP Week
DESCRIPTION:
URL:https://kidefm.org/eventinfo/mmip-week/2026-05-17/
CATEGORIES:General
END:VEVENT
BEGIN:VEVENT
DTSTART;VALUE=DATE:20260516
DTEND;VALUE=DATE:20260518
DTSTAMP:20260423T035812
CREATED:20260422T001904Z
LAST-MODIFIED:20260422T001904Z
UID:10006238-1778896800-1778983199@kidefm.org
SUMMARY:MMIP Week
DESCRIPTION:
URL:https://kidefm.org/eventinfo/mmip-week/2026-05-16/
CATEGORIES:General
END:VEVENT
BEGIN:VEVENT
DTSTART;VALUE=DATE:20260515
DTEND;VALUE=DATE:20260517
DTSTAMP:20260423T035812
CREATED:20260422T001904Z
LAST-MODIFIED:20260422T001904Z
UID:10006237-1778810400-1778896799@kidefm.org
SUMMARY:MMIP Week
DESCRIPTION:
URL:https://kidefm.org/eventinfo/mmip-week/2026-05-15/
CATEGORIES:General
END:VEVENT
BEGIN:VEVENT
DTSTART;VALUE=DATE:20260514
DTEND;VALUE=DATE:20260516
DTSTAMP:20260423T035812
CREATED:20260422T001904Z
LAST-MODIFIED:20260422T001904Z
UID:10006236-1778724000-1778810399@kidefm.org
SUMMARY:MMIP Week
DESCRIPTION:
URL:https://kidefm.org/eventinfo/mmip-week/2026-05-14/
CATEGORIES:General
END:VEVENT
BEGIN:VEVENT
DTSTART;VALUE=DATE:20260513
DTEND;VALUE=DATE:20260515
DTSTAMP:20260423T035812
CREATED:20260422T001904Z
LAST-MODIFIED:20260422T001904Z
UID:10006235-1778637600-1778723999@kidefm.org
SUMMARY:MMIP Week
DESCRIPTION:
URL:https://kidefm.org/eventinfo/mmip-week/2026-05-13/
CATEGORIES:General
END:VEVENT
BEGIN:VEVENT
DTSTART;TZID=America/Los_Angeles:20260512T163000
DTEND;TZID=America/Los_Angeles:20260512T180000
DTSTAMP:20260423T035812
CREATED:20251029T181648Z
LAST-MODIFIED:20251029T181947Z
UID:10005963-1778603400-1778608800@kidefm.org
SUMMARY:FUNGI
DESCRIPTION:Today at the Kim Yerton Memorial Library you can learn more about mushroom hunting. Each session is solely focused on how to forge mushrooms safely. Please see the attached PDF for more details. \nFUNGI
URL:https://kidefm.org/eventinfo/fungi/2026-05-12/
CATEGORIES:General
END:VEVENT
BEGIN:VEVENT
DTSTART;VALUE=DATE:20260512
DTEND;VALUE=DATE:20260514
DTSTAMP:20260423T035812
CREATED:20260422T001904Z
LAST-MODIFIED:20260422T001904Z
UID:10006234-1778551200-1778637599@kidefm.org
SUMMARY:MMIP Week
DESCRIPTION:
URL:https://kidefm.org/eventinfo/mmip-week/2026-05-12/
CATEGORIES:General
END:VEVENT
BEGIN:VEVENT
DTSTART;VALUE=DATE:20260511
DTEND;VALUE=DATE:20260513
DTSTAMP:20260423T035812
CREATED:20260422T001904Z
LAST-MODIFIED:20260422T001904Z
UID:10006233-1778464800-1778551199@kidefm.org
SUMMARY:MMIP Week
DESCRIPTION:
URL:https://kidefm.org/eventinfo/mmip-week/2026-05-11/
CATEGORIES:General
END:VEVENT
BEGIN:VEVENT
DTSTART;VALUE=DATE:20260510
DTEND;VALUE=DATE:20260512
DTSTAMP:20260423T035812
CREATED:20260422T001904Z
LAST-MODIFIED:20260422T001904Z
UID:10006232-1778378400-1778464799@kidefm.org
SUMMARY:MMIP Week
DESCRIPTION:
URL:https://kidefm.org/eventinfo/mmip-week/2026-05-10/
CATEGORIES:General
END:VEVENT
BEGIN:VEVENT
DTSTART;VALUE=DATE:20260509
DTEND;VALUE=DATE:20260511
DTSTAMP:20260423T035812
CREATED:20260422T001904Z
LAST-MODIFIED:20260422T001904Z
UID:10006231-1778292000-1778378399@kidefm.org
SUMMARY:MMIP Week
DESCRIPTION:
URL:https://kidefm.org/eventinfo/mmip-week/2026-05-09/
CATEGORIES:General
END:VEVENT
END:VCALENDAR