BEGIN:VCALENDAR
VERSION:2.0
PRODID:-//KIDE FM - ECPv6.15.20//NONSGML v1.0//EN
CALSCALE:GREGORIAN
METHOD:PUBLISH
X-WR-CALNAME:KIDE FM
X-ORIGINAL-URL:https://kidefm.org
X-WR-CALDESC:Events for KIDE FM
REFRESH-INTERVAL;VALUE=DURATION:PT1H
X-Robots-Tag:noindex
X-PUBLISHED-TTL:PT1H
BEGIN:VTIMEZONE
TZID:America/Los_Angeles
BEGIN:DAYLIGHT
TZOFFSETFROM:-0800
TZOFFSETTO:-0700
TZNAME:PDT
DTSTART:20250309T100000
END:DAYLIGHT
BEGIN:STANDARD
TZOFFSETFROM:-0700
TZOFFSETTO:-0800
TZNAME:PST
DTSTART:20251102T090000
END:STANDARD
BEGIN:DAYLIGHT
TZOFFSETFROM:-0800
TZOFFSETTO:-0700
TZNAME:PDT
DTSTART:20260308T100000
END:DAYLIGHT
BEGIN:STANDARD
TZOFFSETFROM:-0700
TZOFFSETTO:-0800
TZNAME:PST
DTSTART:20261101T090000
END:STANDARD
BEGIN:DAYLIGHT
TZOFFSETFROM:-0800
TZOFFSETTO:-0700
TZNAME:PDT
DTSTART:20270314T100000
END:DAYLIGHT
BEGIN:STANDARD
TZOFFSETFROM:-0700
TZOFFSETTO:-0800
TZNAME:PST
DTSTART:20271107T090000
END:STANDARD
END:VTIMEZONE
BEGIN:VEVENT
DTSTART;TZID=America/Los_Angeles:20260127T080000
DTEND;TZID=America/Los_Angeles:20260127T170000
DTSTAMP:20260423T152415
CREATED:20260127T171616Z
LAST-MODIFIED:20260127T171616Z
UID:10006112-1769500800-1769533200@kidefm.org
SUMMARY:Native America Calling
DESCRIPTION:Tuesday\, January 27\, 2026 – The concern over rising American imperialism to Indigenous people abroad and at home\n \n\n\nPresident Donald Trump appears to have backed off his most urgent rhetoric\, for now\, around acquiring Greenland against the will of nearly every European nation and the vast majority of Americans. But the threat of a potential takeover of Greenland and other sovereign nations remains\, with Trump officials also putting Cuba\, Columbia\, and even Canada and Mexico on notice for what Trump himself refers to as the “Donroe Doctrine”\, a reference to the 200-year-old foreign policy asserting America’s dominance in the Western Hemisphere. The momentum for such imperialistic rhetoric is a reminder of a dark time for Native Americans and other Indigenous peoples potentially in Trump’s path. \nTo join the discussion\, call 1-800-996-2848 \nGUESTS \nDr. Sara Olsvig (Inuk from Greenland)\, chair of the Inuit Circumpolar Council and holds a Ph.D in Arctic studies \nAndrea Carmen (Yaqui)\, executive director of the International Indian Treaty Council \nTillie Martinussen\, former member of Parliament of Greenland \nMalu Rosing\, advisor on Arctic and global governance for the International Work Group for Indigenous Affairs
URL:https://kidefm.org/eventinfo/native-america-calling-36/
CATEGORIES:General
END:VEVENT
BEGIN:VEVENT
DTSTART;TZID=America/Los_Angeles:20260126T100000
DTEND;TZID=America/Los_Angeles:20260126T110000
DTSTAMP:20260423T152415
CREATED:20260126T171509Z
LAST-MODIFIED:20260126T171509Z
UID:10006111-1769421600-1769425200@kidefm.org
SUMMARY:Native America Calling
DESCRIPTION:Monday\, January 26\, 2026 – Federal officials take aim at tribal government contracts\n \n\n\nU.S. Secretary of Defense Pete Hegseth says he is taking a “sledgehammer” to a federal program that many tribes and tribal businesses rely on. He is referring to the Small Business Administration’s 8(a) Business Development Program that extends contract priorities to disadvantaged business owners. Hegseth uses words like “fraud” and “scheme” to describe what he says is an outdated diversity\, equity\, and inclusion (DEI) initiative. His is part of an overall scrutiny of the program by the federal government. Hundreds of Native small businesses have accessed the program over the past 60 years\, and some Alaska Native corporations have multi-million dollar contracts. \nTo join the discussion\, call 1-800-996-2848 \nGUESTS \nJon Panamaroff (Native Village of Afognak)\, co-chair of the Native American Contractors Association and CEO of Command Holdings \nKevin Allis (Forest County Potawatomi)\, founder and president of Thunderbird Strategic and former CEO of the National Congress of American Indians \nNick Grube\, investigative reporter at Honolulu Civil Beat
URL:https://kidefm.org/eventinfo/native-america-calling-35/
CATEGORIES:General
END:VEVENT
BEGIN:VEVENT
DTSTART;TZID=America/Los_Angeles:20260125T160000
DTEND;TZID=America/Los_Angeles:20260125T170000
DTSTAMP:20260423T152415
CREATED:20260120T172058Z
LAST-MODIFIED:20260120T212329Z
UID:10006107-1769356800-1769360400@kidefm.org
SUMMARY:Speaking of Palestine
DESCRIPTION:In today’s Speaking of Palestine we hear the International Update. In the Boycott-Divestment-Sanction movement we hear of several companies that invest financial support to Israeli\, Google and Amazon are well noted. There were technical difficulties in the program guest’s presentation which could not be fixed. After a few minutes of filled-music it was decided to run the recorded interview next week. The presentation focuses on current struggles in Argentina. Rebel Fagen explained that the presentation was drawing on similarities of colonizing actions of one country on another as a means of exerting dominating power. Speaking of Palestine is a production of KBBF-Santa Rosa\, CA.
URL:https://kidefm.org/eventinfo/speaking-of-palestine-4/
CATEGORIES:General
END:VEVENT
BEGIN:VEVENT
DTSTART;TZID=America/Los_Angeles:20260123T100000
DTEND;TZID=America/Los_Angeles:20260123T110000
DTSTAMP:20260423T152415
CREATED:20260123T175445Z
LAST-MODIFIED:20260123T175445Z
UID:10006110-1769162400-1769166000@kidefm.org
SUMMARY:Native America Calling
DESCRIPTION:Today\, January 23 — Native Bookshelf: “Special Places\, Sacred Circles” by Virginia Driving Hawk Sneve\n \n\n\nVirginia Driving Hawk Sneve (Sicangu Lakota and Ponca) mistook her first interaction with racism — a separate gas station outhouse reserved for “Indians” — as a privileged courtesy for her and her people. It is one of the “Special Places\, Sacred Circles” that she recalls in the account of her life on the dry\, windy plains of South Dakota. She tells of the Great Depression\, grandmothers who taught her the power of words\, and the navigation of a literary world that embraced her. Sneve was one of the first authors to offer an alternative to children’s literature flush with stereotypes. Her insightful writing took her from her home along Ponca Creek to a presidential honor at the White House. We’ll hear Sneve talk about her life as a writer and public school educator. \nTo join the discussion\, Call 1-800-996-2848
URL:https://kidefm.org/eventinfo/native-america-calling-59/
CATEGORIES:General
END:VEVENT
END:VCALENDAR