BEGIN:VCALENDAR
VERSION:2.0
PRODID:-//KIDE FM - ECPv6.15.20//NONSGML v1.0//EN
CALSCALE:GREGORIAN
METHOD:PUBLISH
X-ORIGINAL-URL:https://kidefm.org
X-WR-CALDESC:Events for KIDE FM
REFRESH-INTERVAL;VALUE=DURATION:PT1H
X-Robots-Tag:noindex
X-PUBLISHED-TTL:PT1H
BEGIN:VTIMEZONE
TZID:America/Los_Angeles
BEGIN:DAYLIGHT
TZOFFSETFROM:-0800
TZOFFSETTO:-0700
TZNAME:PDT
DTSTART:20250309T100000
END:DAYLIGHT
BEGIN:STANDARD
TZOFFSETFROM:-0700
TZOFFSETTO:-0800
TZNAME:PST
DTSTART:20251102T090000
END:STANDARD
BEGIN:DAYLIGHT
TZOFFSETFROM:-0800
TZOFFSETTO:-0700
TZNAME:PDT
DTSTART:20260308T100000
END:DAYLIGHT
BEGIN:STANDARD
TZOFFSETFROM:-0700
TZOFFSETTO:-0800
TZNAME:PST
DTSTART:20261101T090000
END:STANDARD
BEGIN:DAYLIGHT
TZOFFSETFROM:-0800
TZOFFSETTO:-0700
TZNAME:PDT
DTSTART:20270314T100000
END:DAYLIGHT
BEGIN:STANDARD
TZOFFSETFROM:-0700
TZOFFSETTO:-0800
TZNAME:PST
DTSTART:20271107T090000
END:STANDARD
END:VTIMEZONE
BEGIN:VEVENT
DTSTART;TZID=America/Los_Angeles:20260423T100000
DTEND;TZID=America/Los_Angeles:20260423T110000
DTSTAMP:20260423T233154
CREATED:20260423T161933Z
LAST-MODIFIED:20260423T161933Z
UID:10006596-1776938400-1776942000@kidefm.org
SUMMARY:Native America Calling
DESCRIPTION:Today\, April 23 — Gathering of MCs: Native musicians compete for best bars\, beats\, and freestyles\n \n\n\nDiné hip-hop artist and educator Def-i has been a singular\, independent voice in elevating Native hip-hop and championing other Native artists. This year makes 14 years that he has spearheaded the annual two-day competition\, Gathering of MCs. Some of the top Native rappers from around the country bring their best beats\, bars\, and freestyles to vie for cash prizes. This year’s event takes place alongside what organizers say is the final Gathering of Nations Powwow in Albuquerque\, N.M. We’ll speak with Def-i and other performers about the power and importance of Native hip-hop. \nTo join the discussion\, call 1-800-996-2848 \nGUESTS \nDef-i (Diné)\, hip-hop artist and educator \nIllmac (Confederated Tribes of Siletz Indians)\, hip-hop artist \nShe Real\, hip-hop artist
URL:https://kidefm.org/eventinfo/native-america-calling-34/
CATEGORIES:General
END:VEVENT
BEGIN:VEVENT
DTSTART;TZID=America/Los_Angeles:20260423T173000
DTEND;TZID=America/Los_Angeles:20260423T193000
DTSTAMP:20260423T233154
CREATED:20260421T165851Z
LAST-MODIFIED:20260421T165851Z
UID:10006225-1776965400-1776972600@kidefm.org
SUMMARY:KMC Community Dinner
DESCRIPTION:You are invited to join K’ima:w Medical Center for an informative and\nwelcoming community dinner focused on learning more about dialysis care\,\npresented by Dr. Valerie Pasnau\, DNP\, RN\, today from 5:30 to 7:30 pm\nat the Hoopa Firehouse on HWY 96 in Hoopa.\nLearn about the differences between the Dialysis Den and the Dialysis Clinic\,\nand get your questions answered. If you’re interested in learning more about\ndialysis\, this is a great opportunity to connect and gain valuable information.\nThe meeting will be available on Zoom. Go to zoom.us/join\, and enter\nthe meeting ID\, 857 8812 5382\, and the Passcode: 914297.\nCome out\, enjoy a meal\, and learn more about your health and available care\noptions.
URL:https://kidefm.org/eventinfo/kmc-community-dinner/
CATEGORIES:General
END:VEVENT
BEGIN:VEVENT
DTSTART;TZID=America/Los_Angeles:20260424T120000
DTEND;TZID=America/Los_Angeles:20260424T143000
DTSTAMP:20260423T233154
CREATED:20260414T190148Z
LAST-MODIFIED:20260414T190148Z
UID:10006217-1777032000-1777041000@kidefm.org
SUMMARY:Earth Day event
DESCRIPTION:Autism Acceptance Celebration & Earth Day. You are invited to celebrate different ways of thinking and learning\, and our shared ways of caring for the Earth. This event is on the KTIS campus from 12 noon to 2:30 PM \nEnjoy a live educational insect presentation by Kevin Huntly. Food and drinks provided\, while supplies last. Please see the attached flyer for more details. \nEarth Day 2026
URL:https://kidefm.org/eventinfo/earth-day-event/
END:VEVENT
BEGIN:VEVENT
DTSTART;TZID=America/Los_Angeles:20260425T090000
DTEND;TZID=America/Los_Angeles:20260425T140000
DTSTAMP:20260423T233154
CREATED:20260414T184950Z
LAST-MODIFIED:20260414T184950Z
UID:10006215-1777107600-1777125600@kidefm.org
SUMMARY:Strong Roots Soccer Clinic
DESCRIPTION:This Soccer Clinic event is happening today from 9 am to 2 pm at the Hoopa High Football Field for ages 6 to 18 years old. \nStrong Roots
URL:https://kidefm.org/eventinfo/strong-roots-soccer-clinic/2026-04-25/1/
CATEGORIES:General
END:VEVENT
BEGIN:VEVENT
DTSTART;TZID=America/Los_Angeles:20260425T093000
DTEND;TZID=America/Los_Angeles:20260426T140000
DTSTAMP:20260423T233154
CREATED:20260414T184950Z
LAST-MODIFIED:20260414T184950Z
UID:10006216-1777109400-1777212000@kidefm.org
SUMMARY:Strong Roots Soccer Clinic
DESCRIPTION:This Soccer Clinic event is happening today from 9 am to 2 pm at the Hoopa High Football Field for ages 6 to 18 years old. \nStrong Roots
URL:https://kidefm.org/eventinfo/strong-roots-soccer-clinic/2026-04-25/2/
CATEGORIES:General
END:VEVENT
BEGIN:VEVENT
DTSTART;TZID=America/Los_Angeles:20260426T160000
DTEND;TZID=America/Los_Angeles:20260426T170000
DTSTAMP:20260423T233154
CREATED:20260421T165246Z
LAST-MODIFIED:20260421T165246Z
UID:10006224-1777219200-1777222800@kidefm.org
SUMMARY:Speaking of Palestine
DESCRIPTION:In today’s show\, we hear the International Update\, Your BDS Moment\, and an interview with Layla Degani from the ANSWER Coalition. She was good. – Rebel
URL:https://kidefm.org/eventinfo/speaking-of-palestine-3/
CATEGORIES:General
END:VEVENT
BEGIN:VEVENT
DTSTART;TZID=America/Los_Angeles:20260428T163000
DTEND;TZID=America/Los_Angeles:20260428T180000
DTSTAMP:20260423T233154
CREATED:20251029T181648Z
LAST-MODIFIED:20251029T181947Z
UID:10005961-1777393800-1777399200@kidefm.org
SUMMARY:FUNGI
DESCRIPTION:Today at the Kim Yerton Memorial Library you can learn more about mushroom hunting. Each session is solely focused on how to forge mushrooms safely. Please see the attached PDF for more details. \nFUNGI
URL:https://kidefm.org/eventinfo/fungi/2026-04-28/
CATEGORIES:General
END:VEVENT
BEGIN:VEVENT
DTSTART;TZID=America/Los_Angeles:20260429T180000
DTEND;TZID=America/Los_Angeles:20260429T200000
DTSTAMP:20260423T233154
CREATED:20260409T221506Z
LAST-MODIFIED:20260409T221506Z
UID:10006211-1777485600-1777492800@kidefm.org
SUMMARY:KTRDC
DESCRIPTION:Today is the Annual Membership Meeting of the Klamath Trinity Resource Conservation District. The meeting runs from 6 PM to 8 PM at the Hoopa Trading Post. This is a Potluck Dinner event.
URL:https://kidefm.org/eventinfo/ktrdc/
CATEGORIES:General
END:VEVENT
END:VCALENDAR